BEGIN:VCALENDAR
VERSION:2.0
PRODID:-//92ZEW - ECPv6.15.20//NONSGML v1.0//EN
CALSCALE:GREGORIAN
METHOD:PUBLISH
X-ORIGINAL-URL:https://92zew.net
X-WR-CALDESC:Events for 92ZEW
REFRESH-INTERVAL;VALUE=DURATION:PT1H
X-Robots-Tag:noindex
X-PUBLISHED-TTL:PT1H
BEGIN:VTIMEZONE
TZID:America/Chicago
BEGIN:DAYLIGHT
TZOFFSETFROM:-0600
TZOFFSETTO:-0500
TZNAME:CDT
DTSTART:20250309T080000
END:DAYLIGHT
BEGIN:STANDARD
TZOFFSETFROM:-0500
TZOFFSETTO:-0600
TZNAME:CST
DTSTART:20251102T070000
END:STANDARD
BEGIN:DAYLIGHT
TZOFFSETFROM:-0600
TZOFFSETTO:-0500
TZNAME:CDT
DTSTART:20260308T080000
END:DAYLIGHT
BEGIN:STANDARD
TZOFFSETFROM:-0500
TZOFFSETTO:-0600
TZNAME:CST
DTSTART:20261101T070000
END:STANDARD
BEGIN:DAYLIGHT
TZOFFSETFROM:-0600
TZOFFSETTO:-0500
TZNAME:CDT
DTSTART:20270314T080000
END:DAYLIGHT
BEGIN:STANDARD
TZOFFSETFROM:-0500
TZOFFSETTO:-0600
TZNAME:CST
DTSTART:20271107T070000
END:STANDARD
END:VTIMEZONE
BEGIN:VEVENT
DTSTART;TZID=America/Chicago:20260418T100000
DTEND;TZID=America/Chicago:20260418T120000
DTSTAMP:20260419T190250
CREATED:20260413T040249Z
LAST-MODIFIED:20260413T214728Z
UID:10000017-1776506400-1776513600@92zew.net
SUMMARY:92ZEW Live! - Piggly Wiggly - Fairhope
DESCRIPTION:Join 92ZEW Live! on location at Piggly Wiggly on the corner of Plantation Pointe Rd. & Highway 98 in Fairhope Saturday\, April 18th from 10AM until noon! Matt McCoy will broadcast live\, Piggly Wiggly will have some great deals\, free 92ZEW goodies and you can pick up tickets to the 2026 Fairhope Rotary Steak Cook Off! \nOr\, get yours at fairhopesteak.org!
URL:https://92zew.net/calendar/92zew-live-piggly-wiggly-fairhope/
CATEGORIES:92ZEW Live!
ATTACH;FMTTYPE=image/jpeg:https://92zew.net/wp-content/uploads/2026/04/images.jpg
END:VEVENT
BEGIN:VEVENT
DTSTART;TZID=America/Chicago:20260417T180000
DTEND;TZID=America/Chicago:20260417T180000
DTSTAMP:20260419T190250
CREATED:20260410T005223Z
LAST-MODIFIED:20260410T005244Z
UID:10000002-1776448800-1776448800@92zew.net
SUMMARY:Port City Revival featuring Moon Taxi
DESCRIPTION:@ Cedar Street Social Club \nDoors: 5:30PM \nShow: 6PM \nGet tickets at: https://www.soulkitchenmobile.com/tm-event/port-city-revival-feat-moon-taxi/
URL:https://92zew.net/calendar/port-city-revival-featuring-moon-taxi/
LOCATION:Cedar Street Social Club
CATEGORIES:Concert
ATTACH;FMTTYPE=image/jpeg:https://92zew.net/wp-content/uploads/2026/04/moon-taxi-feat-346-x-245-px.jpg
END:VEVENT
BEGIN:VEVENT
DTSTART;TZID=America/Chicago:20260416T190000
DTEND;TZID=America/Chicago:20260416T190000
DTSTAMP:20260419T190250
CREATED:20260410T055007Z
LAST-MODIFIED:20260415T155903Z
UID:10000007-1776366000-1776366000@92zew.net
SUMMARY:Beer\, BBQ & Bingo
DESCRIPTION:Join 92ZEW live at Moe’s Original BBQ for free Bingo each week! Win great prizes\, enjoy award winning BBQ and a cold one with Matt & Gene Tuesdays at Moe’s Original BBQ in Downtown Mobile and on Thursdays\, Clint & Cornbred bring the fun to Moe’s in Daphne!  Both nights start at 7PM.
URL:https://92zew.net/calendar/beer-bbq-bingo/2026-04-16/
LOCATION:Moe’s Original BBQ
CATEGORIES:92ZEW Live!
ATTACH;FMTTYPE=image/jpeg:https://92zew.net/wp-content/uploads/2026/04/BBB-feat-346-x-245-px.jpg
END:VEVENT
BEGIN:VEVENT
DTSTART;TZID=America/Chicago:20260410T200000
DTEND;TZID=America/Chicago:20260410T200000
DTSTAMP:20260419T190250
CREATED:20260409T235244Z
LAST-MODIFIED:20260410T004744Z
UID:10000001-1775851200-1775851200@92zew.net
SUMMARY:Red & The Revelers
DESCRIPTION:Soul Kitchen Music Hall \nDoors: 7PM \nShow: 8PM \nGet tickets at: https://www.soulkitchenmobile.com/tm-event/red-and-the-revelers/
URL:https://92zew.net/calendar/red-the-revelers/
LOCATION:Soul Kitchen
CATEGORIES:Concert
ATTACH;FMTTYPE=image/jpeg:https://92zew.net/wp-content/uploads/2026/02/Red-The-Revelers-feat-346-x-245-px.jpg
END:VEVENT
END:VCALENDAR