BEGIN:VCALENDAR
VERSION:2.0
PRODID:-//92ZEW - ECPv6.15.20//NONSGML v1.0//EN
CALSCALE:GREGORIAN
METHOD:PUBLISH
X-WR-CALNAME:92ZEW
X-ORIGINAL-URL:https://92zew.net
X-WR-CALDESC:Events for 92ZEW
REFRESH-INTERVAL;VALUE=DURATION:PT1H
X-Robots-Tag:noindex
X-PUBLISHED-TTL:PT1H
BEGIN:VTIMEZONE
TZID:America/Chicago
BEGIN:DAYLIGHT
TZOFFSETFROM:-0600
TZOFFSETTO:-0500
TZNAME:CDT
DTSTART:20270314T080000
END:DAYLIGHT
BEGIN:STANDARD
TZOFFSETFROM:-0500
TZOFFSETTO:-0600
TZNAME:CST
DTSTART:20271107T070000
END:STANDARD
BEGIN:DAYLIGHT
TZOFFSETFROM:-0600
TZOFFSETTO:-0500
TZNAME:CDT
DTSTART:20280312T080000
END:DAYLIGHT
BEGIN:STANDARD
TZOFFSETFROM:-0500
TZOFFSETTO:-0600
TZNAME:CST
DTSTART:20281105T070000
END:STANDARD
BEGIN:DAYLIGHT
TZOFFSETFROM:-0600
TZOFFSETTO:-0500
TZNAME:CDT
DTSTART:20290311T080000
END:DAYLIGHT
BEGIN:STANDARD
TZOFFSETFROM:-0500
TZOFFSETTO:-0600
TZNAME:CST
DTSTART:20291104T070000
END:STANDARD
END:VTIMEZONE
BEGIN:VEVENT
DTSTART;TZID=America/Chicago:20280307T190000
DTEND;TZID=America/Chicago:20280307T190000
DTSTAMP:20260421T031830
CREATED:20260415T160102Z
LAST-MODIFIED:20260415T160135Z
UID:10000379-1836068400-1836068400@92zew.net
SUMMARY:Beer\, BBQ & Bingo
DESCRIPTION:Join 92ZEW live at Moe’s Original BBQ for free Bingo each week! Win great prizes\, enjoy award winning BBQ and a cold one with Matt & Gene Tuesdays at Moe’s Original BBQ in Downtown Mobile and on Thursdays\, Clint & Cornbred bring the fun to Moe’s in Daphne!  Both nights start at 7PM.
URL:https://92zew.net/calendar/beer-bbq-bingo-2/2028-03-07/
LOCATION:Moe’s Original BBQ
CATEGORIES:92ZEW Live!
ATTACH;FMTTYPE=image/jpeg:https://92zew.net/wp-content/uploads/2026/04/BBB-feat-346-x-245-px.jpg
END:VEVENT
BEGIN:VEVENT
DTSTART;TZID=America/Chicago:20280309T190000
DTEND;TZID=America/Chicago:20280309T190000
DTSTAMP:20260421T031830
CREATED:20260410T055007Z
LAST-MODIFIED:20260415T155903Z
UID:10000120-1836241200-1836241200@92zew.net
SUMMARY:Beer\, BBQ & Bingo
DESCRIPTION:Join 92ZEW live at Moe’s Original BBQ for free Bingo each week! Win great prizes\, enjoy award winning BBQ and a cold one with Matt & Gene Tuesdays at Moe’s Original BBQ in Downtown Mobile and on Thursdays\, Clint & Cornbred bring the fun to Moe’s in Daphne!  Both nights start at 7PM.
URL:https://92zew.net/calendar/beer-bbq-bingo/2028-03-09/
LOCATION:Moe’s Original BBQ
CATEGORIES:92ZEW Live!
ATTACH;FMTTYPE=image/jpeg:https://92zew.net/wp-content/uploads/2026/04/BBB-feat-346-x-245-px.jpg
END:VEVENT
BEGIN:VEVENT
DTSTART;TZID=America/Chicago:20280314T190000
DTEND;TZID=America/Chicago:20280314T190000
DTSTAMP:20260421T031830
CREATED:20260415T160102Z
LAST-MODIFIED:20260415T160135Z
UID:10000380-1836673200-1836673200@92zew.net
SUMMARY:Beer\, BBQ & Bingo
DESCRIPTION:Join 92ZEW live at Moe’s Original BBQ for free Bingo each week! Win great prizes\, enjoy award winning BBQ and a cold one with Matt & Gene Tuesdays at Moe’s Original BBQ in Downtown Mobile and on Thursdays\, Clint & Cornbred bring the fun to Moe’s in Daphne!  Both nights start at 7PM.
URL:https://92zew.net/calendar/beer-bbq-bingo-2/2028-03-14/
LOCATION:Moe’s Original BBQ
CATEGORIES:92ZEW Live!
ATTACH;FMTTYPE=image/jpeg:https://92zew.net/wp-content/uploads/2026/04/BBB-feat-346-x-245-px.jpg
END:VEVENT
BEGIN:VEVENT
DTSTART;TZID=America/Chicago:20280316T190000
DTEND;TZID=America/Chicago:20280316T190000
DTSTAMP:20260421T031830
CREATED:20260410T055007Z
LAST-MODIFIED:20260415T155903Z
UID:10000121-1836846000-1836846000@92zew.net
SUMMARY:Beer\, BBQ & Bingo
DESCRIPTION:Join 92ZEW live at Moe’s Original BBQ for free Bingo each week! Win great prizes\, enjoy award winning BBQ and a cold one with Matt & Gene Tuesdays at Moe’s Original BBQ in Downtown Mobile and on Thursdays\, Clint & Cornbred bring the fun to Moe’s in Daphne!  Both nights start at 7PM.
URL:https://92zew.net/calendar/beer-bbq-bingo/2028-03-16/
LOCATION:Moe’s Original BBQ
CATEGORIES:92ZEW Live!
ATTACH;FMTTYPE=image/jpeg:https://92zew.net/wp-content/uploads/2026/04/BBB-feat-346-x-245-px.jpg
END:VEVENT
BEGIN:VEVENT
DTSTART;TZID=America/Chicago:20280321T190000
DTEND;TZID=America/Chicago:20280321T190000
DTSTAMP:20260421T031830
CREATED:20260415T160102Z
LAST-MODIFIED:20260415T160135Z
UID:10000381-1837278000-1837278000@92zew.net
SUMMARY:Beer\, BBQ & Bingo
DESCRIPTION:Join 92ZEW live at Moe’s Original BBQ for free Bingo each week! Win great prizes\, enjoy award winning BBQ and a cold one with Matt & Gene Tuesdays at Moe’s Original BBQ in Downtown Mobile and on Thursdays\, Clint & Cornbred bring the fun to Moe’s in Daphne!  Both nights start at 7PM.
URL:https://92zew.net/calendar/beer-bbq-bingo-2/2028-03-21/
LOCATION:Moe’s Original BBQ
CATEGORIES:92ZEW Live!
ATTACH;FMTTYPE=image/jpeg:https://92zew.net/wp-content/uploads/2026/04/BBB-feat-346-x-245-px.jpg
END:VEVENT
BEGIN:VEVENT
DTSTART;TZID=America/Chicago:20280323T190000
DTEND;TZID=America/Chicago:20280323T190000
DTSTAMP:20260421T031830
CREATED:20260410T055007Z
LAST-MODIFIED:20260415T155903Z
UID:10000122-1837450800-1837450800@92zew.net
SUMMARY:Beer\, BBQ & Bingo
DESCRIPTION:Join 92ZEW live at Moe’s Original BBQ for free Bingo each week! Win great prizes\, enjoy award winning BBQ and a cold one with Matt & Gene Tuesdays at Moe’s Original BBQ in Downtown Mobile and on Thursdays\, Clint & Cornbred bring the fun to Moe’s in Daphne!  Both nights start at 7PM.
URL:https://92zew.net/calendar/beer-bbq-bingo/2028-03-23/
LOCATION:Moe’s Original BBQ
CATEGORIES:92ZEW Live!
ATTACH;FMTTYPE=image/jpeg:https://92zew.net/wp-content/uploads/2026/04/BBB-feat-346-x-245-px.jpg
END:VEVENT
BEGIN:VEVENT
DTSTART;TZID=America/Chicago:20280328T190000
DTEND;TZID=America/Chicago:20280328T190000
DTSTAMP:20260421T031830
CREATED:20260415T160102Z
LAST-MODIFIED:20260415T160135Z
UID:10000382-1837882800-1837882800@92zew.net
SUMMARY:Beer\, BBQ & Bingo
DESCRIPTION:Join 92ZEW live at Moe’s Original BBQ for free Bingo each week! Win great prizes\, enjoy award winning BBQ and a cold one with Matt & Gene Tuesdays at Moe’s Original BBQ in Downtown Mobile and on Thursdays\, Clint & Cornbred bring the fun to Moe’s in Daphne!  Both nights start at 7PM.
URL:https://92zew.net/calendar/beer-bbq-bingo-2/2028-03-28/
LOCATION:Moe’s Original BBQ
CATEGORIES:92ZEW Live!
ATTACH;FMTTYPE=image/jpeg:https://92zew.net/wp-content/uploads/2026/04/BBB-feat-346-x-245-px.jpg
END:VEVENT
BEGIN:VEVENT
DTSTART;TZID=America/Chicago:20280330T190000
DTEND;TZID=America/Chicago:20280330T190000
DTSTAMP:20260421T031830
CREATED:20260410T055007Z
LAST-MODIFIED:20260415T155903Z
UID:10000123-1838055600-1838055600@92zew.net
SUMMARY:Beer\, BBQ & Bingo
DESCRIPTION:Join 92ZEW live at Moe’s Original BBQ for free Bingo each week! Win great prizes\, enjoy award winning BBQ and a cold one with Matt & Gene Tuesdays at Moe’s Original BBQ in Downtown Mobile and on Thursdays\, Clint & Cornbred bring the fun to Moe’s in Daphne!  Both nights start at 7PM.
URL:https://92zew.net/calendar/beer-bbq-bingo/2028-03-30/
LOCATION:Moe’s Original BBQ
CATEGORIES:92ZEW Live!
ATTACH;FMTTYPE=image/jpeg:https://92zew.net/wp-content/uploads/2026/04/BBB-feat-346-x-245-px.jpg
END:VEVENT
BEGIN:VEVENT
DTSTART;TZID=America/Chicago:20280404T190000
DTEND;TZID=America/Chicago:20280404T190000
DTSTAMP:20260421T031830
CREATED:20260415T160102Z
LAST-MODIFIED:20260415T160135Z
UID:10000383-1838487600-1838487600@92zew.net
SUMMARY:Beer\, BBQ & Bingo
DESCRIPTION:Join 92ZEW live at Moe’s Original BBQ for free Bingo each week! Win great prizes\, enjoy award winning BBQ and a cold one with Matt & Gene Tuesdays at Moe’s Original BBQ in Downtown Mobile and on Thursdays\, Clint & Cornbred bring the fun to Moe’s in Daphne!  Both nights start at 7PM.
URL:https://92zew.net/calendar/beer-bbq-bingo-2/2028-04-04/
LOCATION:Moe’s Original BBQ
CATEGORIES:92ZEW Live!
ATTACH;FMTTYPE=image/jpeg:https://92zew.net/wp-content/uploads/2026/04/BBB-feat-346-x-245-px.jpg
END:VEVENT
BEGIN:VEVENT
DTSTART;TZID=America/Chicago:20280406T190000
DTEND;TZID=America/Chicago:20280406T190000
DTSTAMP:20260421T031830
CREATED:20260410T055007Z
LAST-MODIFIED:20260415T155903Z
UID:10000124-1838660400-1838660400@92zew.net
SUMMARY:Beer\, BBQ & Bingo
DESCRIPTION:Join 92ZEW live at Moe’s Original BBQ for free Bingo each week! Win great prizes\, enjoy award winning BBQ and a cold one with Matt & Gene Tuesdays at Moe’s Original BBQ in Downtown Mobile and on Thursdays\, Clint & Cornbred bring the fun to Moe’s in Daphne!  Both nights start at 7PM.
URL:https://92zew.net/calendar/beer-bbq-bingo/2028-04-06/
LOCATION:Moe’s Original BBQ
CATEGORIES:92ZEW Live!
ATTACH;FMTTYPE=image/jpeg:https://92zew.net/wp-content/uploads/2026/04/BBB-feat-346-x-245-px.jpg
END:VEVENT
BEGIN:VEVENT
DTSTART;TZID=America/Chicago:20280411T190000
DTEND;TZID=America/Chicago:20280411T190000
DTSTAMP:20260421T031830
CREATED:20260415T160102Z
LAST-MODIFIED:20260415T160135Z
UID:10000384-1839092400-1839092400@92zew.net
SUMMARY:Beer\, BBQ & Bingo
DESCRIPTION:Join 92ZEW live at Moe’s Original BBQ for free Bingo each week! Win great prizes\, enjoy award winning BBQ and a cold one with Matt & Gene Tuesdays at Moe’s Original BBQ in Downtown Mobile and on Thursdays\, Clint & Cornbred bring the fun to Moe’s in Daphne!  Both nights start at 7PM.
URL:https://92zew.net/calendar/beer-bbq-bingo-2/2028-04-11/
LOCATION:Moe’s Original BBQ
CATEGORIES:92ZEW Live!
ATTACH;FMTTYPE=image/jpeg:https://92zew.net/wp-content/uploads/2026/04/BBB-feat-346-x-245-px.jpg
END:VEVENT
BEGIN:VEVENT
DTSTART;TZID=America/Chicago:20280413T190000
DTEND;TZID=America/Chicago:20280413T190000
DTSTAMP:20260421T031830
CREATED:20260410T055007Z
LAST-MODIFIED:20260415T155903Z
UID:10000125-1839265200-1839265200@92zew.net
SUMMARY:Beer\, BBQ & Bingo
DESCRIPTION:Join 92ZEW live at Moe’s Original BBQ for free Bingo each week! Win great prizes\, enjoy award winning BBQ and a cold one with Matt & Gene Tuesdays at Moe’s Original BBQ in Downtown Mobile and on Thursdays\, Clint & Cornbred bring the fun to Moe’s in Daphne!  Both nights start at 7PM.
URL:https://92zew.net/calendar/beer-bbq-bingo/2028-04-13/
LOCATION:Moe’s Original BBQ
CATEGORIES:92ZEW Live!
ATTACH;FMTTYPE=image/jpeg:https://92zew.net/wp-content/uploads/2026/04/BBB-feat-346-x-245-px.jpg
END:VEVENT
BEGIN:VEVENT
DTSTART;TZID=America/Chicago:20280418T190000
DTEND;TZID=America/Chicago:20280418T190000
DTSTAMP:20260421T031830
CREATED:20260415T160102Z
LAST-MODIFIED:20260415T160135Z
UID:10000385-1839697200-1839697200@92zew.net
SUMMARY:Beer\, BBQ & Bingo
DESCRIPTION:Join 92ZEW live at Moe’s Original BBQ for free Bingo each week! Win great prizes\, enjoy award winning BBQ and a cold one with Matt & Gene Tuesdays at Moe’s Original BBQ in Downtown Mobile and on Thursdays\, Clint & Cornbred bring the fun to Moe’s in Daphne!  Both nights start at 7PM.
URL:https://92zew.net/calendar/beer-bbq-bingo-2/2028-04-18/
LOCATION:Moe’s Original BBQ
CATEGORIES:92ZEW Live!
ATTACH;FMTTYPE=image/jpeg:https://92zew.net/wp-content/uploads/2026/04/BBB-feat-346-x-245-px.jpg
END:VEVENT
BEGIN:VEVENT
DTSTART;TZID=America/Chicago:20280420T190000
DTEND;TZID=America/Chicago:20280420T190000
DTSTAMP:20260421T031830
CREATED:20260410T055007Z
LAST-MODIFIED:20260415T155903Z
UID:10000126-1839870000-1839870000@92zew.net
SUMMARY:Beer\, BBQ & Bingo
DESCRIPTION:Join 92ZEW live at Moe’s Original BBQ for free Bingo each week! Win great prizes\, enjoy award winning BBQ and a cold one with Matt & Gene Tuesdays at Moe’s Original BBQ in Downtown Mobile and on Thursdays\, Clint & Cornbred bring the fun to Moe’s in Daphne!  Both nights start at 7PM.
URL:https://92zew.net/calendar/beer-bbq-bingo/2028-04-20/
LOCATION:Moe’s Original BBQ
CATEGORIES:92ZEW Live!
ATTACH;FMTTYPE=image/jpeg:https://92zew.net/wp-content/uploads/2026/04/BBB-feat-346-x-245-px.jpg
END:VEVENT
BEGIN:VEVENT
DTSTART;TZID=America/Chicago:20280425T190000
DTEND;TZID=America/Chicago:20280425T190000
DTSTAMP:20260421T031830
CREATED:20260415T160102Z
LAST-MODIFIED:20260415T160135Z
UID:10000386-1840302000-1840302000@92zew.net
SUMMARY:Beer\, BBQ & Bingo
DESCRIPTION:Join 92ZEW live at Moe’s Original BBQ for free Bingo each week! Win great prizes\, enjoy award winning BBQ and a cold one with Matt & Gene Tuesdays at Moe’s Original BBQ in Downtown Mobile and on Thursdays\, Clint & Cornbred bring the fun to Moe’s in Daphne!  Both nights start at 7PM.
URL:https://92zew.net/calendar/beer-bbq-bingo-2/2028-04-25/
LOCATION:Moe’s Original BBQ
CATEGORIES:92ZEW Live!
ATTACH;FMTTYPE=image/jpeg:https://92zew.net/wp-content/uploads/2026/04/BBB-feat-346-x-245-px.jpg
END:VEVENT
BEGIN:VEVENT
DTSTART;TZID=America/Chicago:20280427T190000
DTEND;TZID=America/Chicago:20280427T190000
DTSTAMP:20260421T031830
CREATED:20260410T055007Z
LAST-MODIFIED:20260415T155903Z
UID:10000127-1840474800-1840474800@92zew.net
SUMMARY:Beer\, BBQ & Bingo
DESCRIPTION:Join 92ZEW live at Moe’s Original BBQ for free Bingo each week! Win great prizes\, enjoy award winning BBQ and a cold one with Matt & Gene Tuesdays at Moe’s Original BBQ in Downtown Mobile and on Thursdays\, Clint & Cornbred bring the fun to Moe’s in Daphne!  Both nights start at 7PM.
URL:https://92zew.net/calendar/beer-bbq-bingo/2028-04-27/
LOCATION:Moe’s Original BBQ
CATEGORIES:92ZEW Live!
ATTACH;FMTTYPE=image/jpeg:https://92zew.net/wp-content/uploads/2026/04/BBB-feat-346-x-245-px.jpg
END:VEVENT
BEGIN:VEVENT
DTSTART;TZID=America/Chicago:20280502T190000
DTEND;TZID=America/Chicago:20280502T190000
DTSTAMP:20260421T031830
CREATED:20260415T160102Z
LAST-MODIFIED:20260415T160135Z
UID:10000387-1840906800-1840906800@92zew.net
SUMMARY:Beer\, BBQ & Bingo
DESCRIPTION:Join 92ZEW live at Moe’s Original BBQ for free Bingo each week! Win great prizes\, enjoy award winning BBQ and a cold one with Matt & Gene Tuesdays at Moe’s Original BBQ in Downtown Mobile and on Thursdays\, Clint & Cornbred bring the fun to Moe’s in Daphne!  Both nights start at 7PM.
URL:https://92zew.net/calendar/beer-bbq-bingo-2/2028-05-02/
LOCATION:Moe’s Original BBQ
CATEGORIES:92ZEW Live!
ATTACH;FMTTYPE=image/jpeg:https://92zew.net/wp-content/uploads/2026/04/BBB-feat-346-x-245-px.jpg
END:VEVENT
BEGIN:VEVENT
DTSTART;TZID=America/Chicago:20280504T190000
DTEND;TZID=America/Chicago:20280504T190000
DTSTAMP:20260421T031830
CREATED:20260410T055007Z
LAST-MODIFIED:20260415T155903Z
UID:10000128-1841079600-1841079600@92zew.net
SUMMARY:Beer\, BBQ & Bingo
DESCRIPTION:Join 92ZEW live at Moe’s Original BBQ for free Bingo each week! Win great prizes\, enjoy award winning BBQ and a cold one with Matt & Gene Tuesdays at Moe’s Original BBQ in Downtown Mobile and on Thursdays\, Clint & Cornbred bring the fun to Moe’s in Daphne!  Both nights start at 7PM.
URL:https://92zew.net/calendar/beer-bbq-bingo/2028-05-04/
LOCATION:Moe’s Original BBQ
CATEGORIES:92ZEW Live!
ATTACH;FMTTYPE=image/jpeg:https://92zew.net/wp-content/uploads/2026/04/BBB-feat-346-x-245-px.jpg
END:VEVENT
BEGIN:VEVENT
DTSTART;TZID=America/Chicago:20280509T190000
DTEND;TZID=America/Chicago:20280509T190000
DTSTAMP:20260421T031830
CREATED:20260415T160102Z
LAST-MODIFIED:20260415T160135Z
UID:10000388-1841511600-1841511600@92zew.net
SUMMARY:Beer\, BBQ & Bingo
DESCRIPTION:Join 92ZEW live at Moe’s Original BBQ for free Bingo each week! Win great prizes\, enjoy award winning BBQ and a cold one with Matt & Gene Tuesdays at Moe’s Original BBQ in Downtown Mobile and on Thursdays\, Clint & Cornbred bring the fun to Moe’s in Daphne!  Both nights start at 7PM.
URL:https://92zew.net/calendar/beer-bbq-bingo-2/2028-05-09/
LOCATION:Moe’s Original BBQ
CATEGORIES:92ZEW Live!
ATTACH;FMTTYPE=image/jpeg:https://92zew.net/wp-content/uploads/2026/04/BBB-feat-346-x-245-px.jpg
END:VEVENT
BEGIN:VEVENT
DTSTART;TZID=America/Chicago:20280511T190000
DTEND;TZID=America/Chicago:20280511T190000
DTSTAMP:20260421T031830
CREATED:20260410T055007Z
LAST-MODIFIED:20260415T155903Z
UID:10000129-1841684400-1841684400@92zew.net
SUMMARY:Beer\, BBQ & Bingo
DESCRIPTION:Join 92ZEW live at Moe’s Original BBQ for free Bingo each week! Win great prizes\, enjoy award winning BBQ and a cold one with Matt & Gene Tuesdays at Moe’s Original BBQ in Downtown Mobile and on Thursdays\, Clint & Cornbred bring the fun to Moe’s in Daphne!  Both nights start at 7PM.
URL:https://92zew.net/calendar/beer-bbq-bingo/2028-05-11/
LOCATION:Moe’s Original BBQ
CATEGORIES:92ZEW Live!
ATTACH;FMTTYPE=image/jpeg:https://92zew.net/wp-content/uploads/2026/04/BBB-feat-346-x-245-px.jpg
END:VEVENT
BEGIN:VEVENT
DTSTART;TZID=America/Chicago:20280516T190000
DTEND;TZID=America/Chicago:20280516T190000
DTSTAMP:20260421T031830
CREATED:20260415T160102Z
LAST-MODIFIED:20260415T160135Z
UID:10000389-1842116400-1842116400@92zew.net
SUMMARY:Beer\, BBQ & Bingo
DESCRIPTION:Join 92ZEW live at Moe’s Original BBQ for free Bingo each week! Win great prizes\, enjoy award winning BBQ and a cold one with Matt & Gene Tuesdays at Moe’s Original BBQ in Downtown Mobile and on Thursdays\, Clint & Cornbred bring the fun to Moe’s in Daphne!  Both nights start at 7PM.
URL:https://92zew.net/calendar/beer-bbq-bingo-2/2028-05-16/
LOCATION:Moe’s Original BBQ
CATEGORIES:92ZEW Live!
ATTACH;FMTTYPE=image/jpeg:https://92zew.net/wp-content/uploads/2026/04/BBB-feat-346-x-245-px.jpg
END:VEVENT
BEGIN:VEVENT
DTSTART;TZID=America/Chicago:20280518T190000
DTEND;TZID=America/Chicago:20280518T190000
DTSTAMP:20260421T031830
CREATED:20260410T055007Z
LAST-MODIFIED:20260415T155903Z
UID:10000130-1842289200-1842289200@92zew.net
SUMMARY:Beer\, BBQ & Bingo
DESCRIPTION:Join 92ZEW live at Moe’s Original BBQ for free Bingo each week! Win great prizes\, enjoy award winning BBQ and a cold one with Matt & Gene Tuesdays at Moe’s Original BBQ in Downtown Mobile and on Thursdays\, Clint & Cornbred bring the fun to Moe’s in Daphne!  Both nights start at 7PM.
URL:https://92zew.net/calendar/beer-bbq-bingo/2028-05-18/
LOCATION:Moe’s Original BBQ
CATEGORIES:92ZEW Live!
ATTACH;FMTTYPE=image/jpeg:https://92zew.net/wp-content/uploads/2026/04/BBB-feat-346-x-245-px.jpg
END:VEVENT
BEGIN:VEVENT
DTSTART;TZID=America/Chicago:20280523T190000
DTEND;TZID=America/Chicago:20280523T190000
DTSTAMP:20260421T031830
CREATED:20260415T160102Z
LAST-MODIFIED:20260415T160135Z
UID:10000390-1842721200-1842721200@92zew.net
SUMMARY:Beer\, BBQ & Bingo
DESCRIPTION:Join 92ZEW live at Moe’s Original BBQ for free Bingo each week! Win great prizes\, enjoy award winning BBQ and a cold one with Matt & Gene Tuesdays at Moe’s Original BBQ in Downtown Mobile and on Thursdays\, Clint & Cornbred bring the fun to Moe’s in Daphne!  Both nights start at 7PM.
URL:https://92zew.net/calendar/beer-bbq-bingo-2/2028-05-23/
LOCATION:Moe’s Original BBQ
CATEGORIES:92ZEW Live!
ATTACH;FMTTYPE=image/jpeg:https://92zew.net/wp-content/uploads/2026/04/BBB-feat-346-x-245-px.jpg
END:VEVENT
BEGIN:VEVENT
DTSTART;TZID=America/Chicago:20280525T190000
DTEND;TZID=America/Chicago:20280525T190000
DTSTAMP:20260421T031830
CREATED:20260410T055007Z
LAST-MODIFIED:20260415T155903Z
UID:10000131-1842894000-1842894000@92zew.net
SUMMARY:Beer\, BBQ & Bingo
DESCRIPTION:Join 92ZEW live at Moe’s Original BBQ for free Bingo each week! Win great prizes\, enjoy award winning BBQ and a cold one with Matt & Gene Tuesdays at Moe’s Original BBQ in Downtown Mobile and on Thursdays\, Clint & Cornbred bring the fun to Moe’s in Daphne!  Both nights start at 7PM.
URL:https://92zew.net/calendar/beer-bbq-bingo/2028-05-25/
LOCATION:Moe’s Original BBQ
CATEGORIES:92ZEW Live!
ATTACH;FMTTYPE=image/jpeg:https://92zew.net/wp-content/uploads/2026/04/BBB-feat-346-x-245-px.jpg
END:VEVENT
BEGIN:VEVENT
DTSTART;TZID=America/Chicago:20280530T190000
DTEND;TZID=America/Chicago:20280530T190000
DTSTAMP:20260421T031830
CREATED:20260415T160102Z
LAST-MODIFIED:20260415T160135Z
UID:10000391-1843326000-1843326000@92zew.net
SUMMARY:Beer\, BBQ & Bingo
DESCRIPTION:Join 92ZEW live at Moe’s Original BBQ for free Bingo each week! Win great prizes\, enjoy award winning BBQ and a cold one with Matt & Gene Tuesdays at Moe’s Original BBQ in Downtown Mobile and on Thursdays\, Clint & Cornbred bring the fun to Moe’s in Daphne!  Both nights start at 7PM.
URL:https://92zew.net/calendar/beer-bbq-bingo-2/2028-05-30/
LOCATION:Moe’s Original BBQ
CATEGORIES:92ZEW Live!
ATTACH;FMTTYPE=image/jpeg:https://92zew.net/wp-content/uploads/2026/04/BBB-feat-346-x-245-px.jpg
END:VEVENT
BEGIN:VEVENT
DTSTART;TZID=America/Chicago:20280601T190000
DTEND;TZID=America/Chicago:20280601T190000
DTSTAMP:20260421T031830
CREATED:20260410T055007Z
LAST-MODIFIED:20260415T155903Z
UID:10000132-1843498800-1843498800@92zew.net
SUMMARY:Beer\, BBQ & Bingo
DESCRIPTION:Join 92ZEW live at Moe’s Original BBQ for free Bingo each week! Win great prizes\, enjoy award winning BBQ and a cold one with Matt & Gene Tuesdays at Moe’s Original BBQ in Downtown Mobile and on Thursdays\, Clint & Cornbred bring the fun to Moe’s in Daphne!  Both nights start at 7PM.
URL:https://92zew.net/calendar/beer-bbq-bingo/2028-06-01/
LOCATION:Moe’s Original BBQ
CATEGORIES:92ZEW Live!
ATTACH;FMTTYPE=image/jpeg:https://92zew.net/wp-content/uploads/2026/04/BBB-feat-346-x-245-px.jpg
END:VEVENT
BEGIN:VEVENT
DTSTART;TZID=America/Chicago:20280606T190000
DTEND;TZID=America/Chicago:20280606T190000
DTSTAMP:20260421T031830
CREATED:20260415T160102Z
LAST-MODIFIED:20260415T160135Z
UID:10000392-1843930800-1843930800@92zew.net
SUMMARY:Beer\, BBQ & Bingo
DESCRIPTION:Join 92ZEW live at Moe’s Original BBQ for free Bingo each week! Win great prizes\, enjoy award winning BBQ and a cold one with Matt & Gene Tuesdays at Moe’s Original BBQ in Downtown Mobile and on Thursdays\, Clint & Cornbred bring the fun to Moe’s in Daphne!  Both nights start at 7PM.
URL:https://92zew.net/calendar/beer-bbq-bingo-2/2028-06-06/
LOCATION:Moe’s Original BBQ
CATEGORIES:92ZEW Live!
ATTACH;FMTTYPE=image/jpeg:https://92zew.net/wp-content/uploads/2026/04/BBB-feat-346-x-245-px.jpg
END:VEVENT
BEGIN:VEVENT
DTSTART;TZID=America/Chicago:20280608T190000
DTEND;TZID=America/Chicago:20280608T190000
DTSTAMP:20260421T031830
CREATED:20260410T055007Z
LAST-MODIFIED:20260415T155903Z
UID:10000133-1844103600-1844103600@92zew.net
SUMMARY:Beer\, BBQ & Bingo
DESCRIPTION:Join 92ZEW live at Moe’s Original BBQ for free Bingo each week! Win great prizes\, enjoy award winning BBQ and a cold one with Matt & Gene Tuesdays at Moe’s Original BBQ in Downtown Mobile and on Thursdays\, Clint & Cornbred bring the fun to Moe’s in Daphne!  Both nights start at 7PM.
URL:https://92zew.net/calendar/beer-bbq-bingo/2028-06-08/
LOCATION:Moe’s Original BBQ
CATEGORIES:92ZEW Live!
ATTACH;FMTTYPE=image/jpeg:https://92zew.net/wp-content/uploads/2026/04/BBB-feat-346-x-245-px.jpg
END:VEVENT
BEGIN:VEVENT
DTSTART;TZID=America/Chicago:20280613T190000
DTEND;TZID=America/Chicago:20280613T190000
DTSTAMP:20260421T031830
CREATED:20260415T160102Z
LAST-MODIFIED:20260415T160135Z
UID:10000393-1844535600-1844535600@92zew.net
SUMMARY:Beer\, BBQ & Bingo
DESCRIPTION:Join 92ZEW live at Moe’s Original BBQ for free Bingo each week! Win great prizes\, enjoy award winning BBQ and a cold one with Matt & Gene Tuesdays at Moe’s Original BBQ in Downtown Mobile and on Thursdays\, Clint & Cornbred bring the fun to Moe’s in Daphne!  Both nights start at 7PM.
URL:https://92zew.net/calendar/beer-bbq-bingo-2/2028-06-13/
LOCATION:Moe’s Original BBQ
CATEGORIES:92ZEW Live!
ATTACH;FMTTYPE=image/jpeg:https://92zew.net/wp-content/uploads/2026/04/BBB-feat-346-x-245-px.jpg
END:VEVENT
BEGIN:VEVENT
DTSTART;TZID=America/Chicago:20280615T190000
DTEND;TZID=America/Chicago:20280615T190000
DTSTAMP:20260421T031830
CREATED:20260410T055007Z
LAST-MODIFIED:20260415T155903Z
UID:10000134-1844708400-1844708400@92zew.net
SUMMARY:Beer\, BBQ & Bingo
DESCRIPTION:Join 92ZEW live at Moe’s Original BBQ for free Bingo each week! Win great prizes\, enjoy award winning BBQ and a cold one with Matt & Gene Tuesdays at Moe’s Original BBQ in Downtown Mobile and on Thursdays\, Clint & Cornbred bring the fun to Moe’s in Daphne!  Both nights start at 7PM.
URL:https://92zew.net/calendar/beer-bbq-bingo/2028-06-15/
LOCATION:Moe’s Original BBQ
CATEGORIES:92ZEW Live!
ATTACH;FMTTYPE=image/jpeg:https://92zew.net/wp-content/uploads/2026/04/BBB-feat-346-x-245-px.jpg
END:VEVENT
END:VCALENDAR