BEGIN:VCALENDAR
VERSION:2.0
PRODID:-//92ZEW - ECPv6.15.20//NONSGML v1.0//EN
CALSCALE:GREGORIAN
METHOD:PUBLISH
X-ORIGINAL-URL:https://92zew.net
X-WR-CALDESC:Events for 92ZEW
REFRESH-INTERVAL;VALUE=DURATION:PT1H
X-Robots-Tag:noindex
X-PUBLISHED-TTL:PT1H
BEGIN:VTIMEZONE
TZID:America/Chicago
BEGIN:DAYLIGHT
TZOFFSETFROM:-0600
TZOFFSETTO:-0500
TZNAME:CDT
DTSTART:20250309T080000
END:DAYLIGHT
BEGIN:STANDARD
TZOFFSETFROM:-0500
TZOFFSETTO:-0600
TZNAME:CST
DTSTART:20251102T070000
END:STANDARD
BEGIN:DAYLIGHT
TZOFFSETFROM:-0600
TZOFFSETTO:-0500
TZNAME:CDT
DTSTART:20260308T080000
END:DAYLIGHT
BEGIN:STANDARD
TZOFFSETFROM:-0500
TZOFFSETTO:-0600
TZNAME:CST
DTSTART:20261101T070000
END:STANDARD
BEGIN:DAYLIGHT
TZOFFSETFROM:-0600
TZOFFSETTO:-0500
TZNAME:CDT
DTSTART:20270314T080000
END:DAYLIGHT
BEGIN:STANDARD
TZOFFSETFROM:-0500
TZOFFSETTO:-0600
TZNAME:CST
DTSTART:20271107T070000
END:STANDARD
END:VTIMEZONE
BEGIN:VEVENT
DTSTART;TZID=America/Chicago:20260514T190000
DTEND;TZID=America/Chicago:20260514T190000
DTSTAMP:20260419T190104
CREATED:20260410T055007Z
LAST-MODIFIED:20260415T155903Z
UID:10000025-1778785200-1778785200@92zew.net
SUMMARY:Beer\, BBQ & Bingo
DESCRIPTION:Join 92ZEW live at Moe’s Original BBQ for free Bingo each week! Win great prizes\, enjoy award winning BBQ and a cold one with Matt & Gene Tuesdays at Moe’s Original BBQ in Downtown Mobile and on Thursdays\, Clint & Cornbred bring the fun to Moe’s in Daphne!  Both nights start at 7PM.
URL:https://92zew.net/calendar/beer-bbq-bingo/2026-05-14/
LOCATION:Moe’s Original BBQ
CATEGORIES:92ZEW Live!
ATTACH;FMTTYPE=image/jpeg:https://92zew.net/wp-content/uploads/2026/04/BBB-feat-346-x-245-px.jpg
END:VEVENT
BEGIN:VEVENT
DTSTART;TZID=America/Chicago:20260516T150000
DTEND;TZID=America/Chicago:20260517T200000
DTSTAMP:20260419T190104
CREATED:20260410T061338Z
LAST-MODIFIED:20260419T051242Z
UID:10000010-1778943600-1779048000@92zew.net
SUMMARY:Essential Rhythms Music Festival
DESCRIPTION:Essential Rhythms is more than a music festival—it’s a mental health awareness and advocacy initiative dedicated to connecting people with healing communities. \n\nWe believe in the power of music\, art\, and creative expression to foster wellness\, build supportive networks\, and create spaces where everyone can find connection and support. \nSet on the beautiful grounds of Weeks Bay Plantation\, our two-day celebration brings together music lovers\, artists\, creators\, and community members from across the Gulf Coast. We’re building a creative community network that celebrates arts\, crafts\, and creative technologies while fostering mental wellness and supportive connections. \n\nFor two days\, the serene landscape of Weeks Bay Plantation comes alive with the sounds of diverse musical genres. Explore curated selections from local food vendors\, discover unique handcrafted items from regional artisans\, find your spot on the lawn\, and connect with fellow music and art enthusiasts. \n\nWith professional production\, multiple stages\, and a welcoming atmosphere\, Essential Rhythms provides a top-tier festival experience while maintaining an intimate\, community-focused feel. Whether you’re camping for the weekend or joining us for a day\, you’ll find a supportive\, healing environment where creativity and connection thrive. \n\nWe provide free vending space to nonprofit organizations working in mental health\, wellness\, and community support to help amplify their missions and connect them with our community. \n\nGet tickets at: https://essentialrhythms.ticketspice.com/essential-rhytms-2026
URL:https://92zew.net/calendar/essential-rhythms-music-festival/
LOCATION:Weeks Bay Plantation\, 12562 Mary Ann Bch Rd.\, Fairhope\, AL\, 36532\, United States
CATEGORIES:Concert
ATTACH;FMTTYPE=image/jpeg:https://92zew.net/wp-content/uploads/2026/04/essential-rhythms-feat-346-x-245-px.jpg
END:VEVENT
BEGIN:VEVENT
DTSTART;TZID=America/Chicago:20260516T193000
DTEND;TZID=America/Chicago:20260516T193000
DTSTAMP:20260419T190104
CREATED:20260410T031814Z
LAST-MODIFIED:20260410T031847Z
UID:10000006-1778959800-1778959800@92zew.net
SUMMARY:Willie Nelson & Family
DESCRIPTION:The Wharf Amphitheater \nDoors: 6:30PM \nShow: 7:30PM \nGet tickets at: https://www.ticketmaster.com/willie-nelson-family-orange-beach-alabama-05-16-2026/event/1B006482B45F25DF
URL:https://92zew.net/calendar/willie-nelson-family/
LOCATION:The Wharf Amphitheater
ATTACH;FMTTYPE=image/jpeg:https://92zew.net/wp-content/uploads/2026/04/wille-and-family-feat-346-x-245-px.jpg
END:VEVENT
BEGIN:VEVENT
DTSTART;TZID=America/Chicago:20260519T190000
DTEND;TZID=America/Chicago:20260519T190000
DTSTAMP:20260419T190104
CREATED:20260415T160102Z
LAST-MODIFIED:20260415T160135Z
UID:10000285-1779217200-1779217200@92zew.net
SUMMARY:Beer\, BBQ & Bingo
DESCRIPTION:Join 92ZEW live at Moe’s Original BBQ for free Bingo each week! Win great prizes\, enjoy award winning BBQ and a cold one with Matt & Gene Tuesdays at Moe’s Original BBQ in Downtown Mobile and on Thursdays\, Clint & Cornbred bring the fun to Moe’s in Daphne!  Both nights start at 7PM.
URL:https://92zew.net/calendar/beer-bbq-bingo-2/2026-05-19/
LOCATION:Moe’s Original BBQ
CATEGORIES:92ZEW Live!
ATTACH;FMTTYPE=image/jpeg:https://92zew.net/wp-content/uploads/2026/04/BBB-feat-346-x-245-px.jpg
END:VEVENT
BEGIN:VEVENT
DTSTART;TZID=America/Chicago:20260521T190000
DTEND;TZID=America/Chicago:20260521T190000
DTSTAMP:20260419T190104
CREATED:20260410T055007Z
LAST-MODIFIED:20260415T155903Z
UID:10000026-1779390000-1779390000@92zew.net
SUMMARY:Beer\, BBQ & Bingo
DESCRIPTION:Join 92ZEW live at Moe’s Original BBQ for free Bingo each week! Win great prizes\, enjoy award winning BBQ and a cold one with Matt & Gene Tuesdays at Moe’s Original BBQ in Downtown Mobile and on Thursdays\, Clint & Cornbred bring the fun to Moe’s in Daphne!  Both nights start at 7PM.
URL:https://92zew.net/calendar/beer-bbq-bingo/2026-05-21/
LOCATION:Moe’s Original BBQ
CATEGORIES:92ZEW Live!
ATTACH;FMTTYPE=image/jpeg:https://92zew.net/wp-content/uploads/2026/04/BBB-feat-346-x-245-px.jpg
END:VEVENT
BEGIN:VEVENT
DTSTART;TZID=America/Chicago:20260525T193000
DTEND;TZID=America/Chicago:20260525T193000
DTSTAMP:20260419T190104
CREATED:20260410T055619Z
LAST-MODIFIED:20260410T055641Z
UID:10000008-1779737400-1779737400@92zew.net
SUMMARY:Dave Matthews Band
DESCRIPTION:The Wharf Amphitheater \nDoors: 6:30PM \nShowtime: 7:30PM \nGet tickets at: https://www.ticketmaster.com/dave-matthews-band-orange-beach-alabama-05-25-2026/event/1B00636BBB74DA80
URL:https://92zew.net/calendar/dave-matthews-band/
LOCATION:The Wharf Amphitheater
ATTACH;FMTTYPE=image/jpeg:https://92zew.net/wp-content/uploads/2026/04/dmb-feat-346-x-245-px.jpg
END:VEVENT
BEGIN:VEVENT
DTSTART;TZID=America/Chicago:20260526T190000
DTEND;TZID=America/Chicago:20260526T190000
DTSTAMP:20260419T190104
CREATED:20260415T160102Z
LAST-MODIFIED:20260415T160135Z
UID:10000286-1779822000-1779822000@92zew.net
SUMMARY:Beer\, BBQ & Bingo
DESCRIPTION:Join 92ZEW live at Moe’s Original BBQ for free Bingo each week! Win great prizes\, enjoy award winning BBQ and a cold one with Matt & Gene Tuesdays at Moe’s Original BBQ in Downtown Mobile and on Thursdays\, Clint & Cornbred bring the fun to Moe’s in Daphne!  Both nights start at 7PM.
URL:https://92zew.net/calendar/beer-bbq-bingo-2/2026-05-26/
LOCATION:Moe’s Original BBQ
CATEGORIES:92ZEW Live!
ATTACH;FMTTYPE=image/jpeg:https://92zew.net/wp-content/uploads/2026/04/BBB-feat-346-x-245-px.jpg
END:VEVENT
BEGIN:VEVENT
DTSTART;TZID=America/Chicago:20260527T183000
DTEND;TZID=America/Chicago:20260527T183000
DTSTAMP:20260419T190104
CREATED:20260410T060256Z
LAST-MODIFIED:20260410T060304Z
UID:10000009-1779906600-1779906600@92zew.net
SUMMARY:The Black Crowes + Whiskey Myers
DESCRIPTION:Southern Hospitality Tour: The Black Crowes and Whiskey Myers with Southall \nDoors: 5:30PM \nShowtime: 6:30PM \nGet tickets at: https://www.ticketmaster.com/southern-hospitality-tour-the-black-crowes-orange-beach-alabama-05-27-2026/event/1B00643B90996DCC \n 
URL:https://92zew.net/calendar/the-black-crowes-whiskey-myers/
LOCATION:The Wharf Amphitheater
ATTACH;FMTTYPE=image/jpeg:https://92zew.net/wp-content/uploads/2026/04/black-crowes-feat-346-x-245-px.jpg
END:VEVENT
BEGIN:VEVENT
DTSTART;TZID=America/Chicago:20260528T190000
DTEND;TZID=America/Chicago:20260528T190000
DTSTAMP:20260419T190104
CREATED:20260410T055007Z
LAST-MODIFIED:20260415T155903Z
UID:10000027-1779994800-1779994800@92zew.net
SUMMARY:Beer\, BBQ & Bingo
DESCRIPTION:Join 92ZEW live at Moe’s Original BBQ for free Bingo each week! Win great prizes\, enjoy award winning BBQ and a cold one with Matt & Gene Tuesdays at Moe’s Original BBQ in Downtown Mobile and on Thursdays\, Clint & Cornbred bring the fun to Moe’s in Daphne!  Both nights start at 7PM.
URL:https://92zew.net/calendar/beer-bbq-bingo/2026-05-28/
LOCATION:Moe’s Original BBQ
CATEGORIES:92ZEW Live!
ATTACH;FMTTYPE=image/jpeg:https://92zew.net/wp-content/uploads/2026/04/BBB-feat-346-x-245-px.jpg
END:VEVENT
BEGIN:VEVENT
DTSTART;TZID=America/Chicago:20260529T170000
DTEND;TZID=America/Chicago:20260529T170000
DTSTAMP:20260419T190104
CREATED:20260413T033917Z
LAST-MODIFIED:20260413T033925Z
UID:10000013-1780074000-1780074000@92zew.net
SUMMARY:Better Than Ezra
DESCRIPTION:Live at Five Concert Series \nShowtime: 5PM \nGet tickets at: https://www.eventbrite.com/e/better-than-ezara-tickets-1982549499923?utm-campaign=social&utm-content=attendeeshare&utm-medium=discovery&utm-term=listing&utm-source=cp&aff=ebdsshcopyurl
URL:https://92zew.net/calendar/better-than-ezra/
LOCATION:Halstead Amphitheater – Fairhope\, 450 Fairhope Ave.\, Fairhope\, AL\, 36532
CATEGORIES:Concert
ATTACH;FMTTYPE=image/jpeg:https://92zew.net/wp-content/uploads/2026/04/bte-feat-346-x-245-px.jpg
END:VEVENT
BEGIN:VEVENT
DTSTART;TZID=America/Chicago:20260602T190000
DTEND;TZID=America/Chicago:20260602T190000
DTSTAMP:20260419T190104
CREATED:20260413T034554Z
LAST-MODIFIED:20260413T034601Z
UID:10000014-1780426800-1780426800@92zew.net
SUMMARY:Jelly Roll w Kashus Culpepper
DESCRIPTION:The Wharf Amphitheater \nDoors: 6PM \nShowtime: 7PM \nGet tickets at: https://www.ticketmaster.com/jelly-roll-the-little-ass-shed-orange-beach-alabama-06-02-2026/event/1B006453AB12F0B6
URL:https://92zew.net/calendar/jelly-roll-w-kashus-culpepper/
LOCATION:The Wharf Amphitheater
CATEGORIES:Concert
ATTACH;FMTTYPE=image/jpeg:https://92zew.net/wp-content/uploads/2026/04/jelly-roll-feat-346-x-245-px.jpg
END:VEVENT
BEGIN:VEVENT
DTSTART;TZID=America/Chicago:20260602T190000
DTEND;TZID=America/Chicago:20260602T190000
DTSTAMP:20260419T190104
CREATED:20260415T160102Z
LAST-MODIFIED:20260415T160135Z
UID:10000287-1780426800-1780426800@92zew.net
SUMMARY:Beer\, BBQ & Bingo
DESCRIPTION:Join 92ZEW live at Moe’s Original BBQ for free Bingo each week! Win great prizes\, enjoy award winning BBQ and a cold one with Matt & Gene Tuesdays at Moe’s Original BBQ in Downtown Mobile and on Thursdays\, Clint & Cornbred bring the fun to Moe’s in Daphne!  Both nights start at 7PM.
URL:https://92zew.net/calendar/beer-bbq-bingo-2/2026-06-02/
LOCATION:Moe’s Original BBQ
CATEGORIES:92ZEW Live!
ATTACH;FMTTYPE=image/jpeg:https://92zew.net/wp-content/uploads/2026/04/BBB-feat-346-x-245-px.jpg
END:VEVENT
BEGIN:VEVENT
DTSTART;TZID=America/Chicago:20260604T190000
DTEND;TZID=America/Chicago:20260604T190000
DTSTAMP:20260419T190104
CREATED:20260410T055007Z
LAST-MODIFIED:20260415T155903Z
UID:10000028-1780599600-1780599600@92zew.net
SUMMARY:Beer\, BBQ & Bingo
DESCRIPTION:Join 92ZEW live at Moe’s Original BBQ for free Bingo each week! Win great prizes\, enjoy award winning BBQ and a cold one with Matt & Gene Tuesdays at Moe’s Original BBQ in Downtown Mobile and on Thursdays\, Clint & Cornbred bring the fun to Moe’s in Daphne!  Both nights start at 7PM.
URL:https://92zew.net/calendar/beer-bbq-bingo/2026-06-04/
LOCATION:Moe’s Original BBQ
CATEGORIES:92ZEW Live!
ATTACH;FMTTYPE=image/jpeg:https://92zew.net/wp-content/uploads/2026/04/BBB-feat-346-x-245-px.jpg
END:VEVENT
BEGIN:VEVENT
DTSTART;TZID=America/Chicago:20260609T190000
DTEND;TZID=America/Chicago:20260609T190000
DTSTAMP:20260419T190104
CREATED:20260415T160102Z
LAST-MODIFIED:20260415T160135Z
UID:10000288-1781031600-1781031600@92zew.net
SUMMARY:Beer\, BBQ & Bingo
DESCRIPTION:Join 92ZEW live at Moe’s Original BBQ for free Bingo each week! Win great prizes\, enjoy award winning BBQ and a cold one with Matt & Gene Tuesdays at Moe’s Original BBQ in Downtown Mobile and on Thursdays\, Clint & Cornbred bring the fun to Moe’s in Daphne!  Both nights start at 7PM.
URL:https://92zew.net/calendar/beer-bbq-bingo-2/2026-06-09/
LOCATION:Moe’s Original BBQ
CATEGORIES:92ZEW Live!
ATTACH;FMTTYPE=image/jpeg:https://92zew.net/wp-content/uploads/2026/04/BBB-feat-346-x-245-px.jpg
END:VEVENT
BEGIN:VEVENT
DTSTART;TZID=America/Chicago:20260611T190000
DTEND;TZID=America/Chicago:20260611T190000
DTSTAMP:20260419T190104
CREATED:20260410T055007Z
LAST-MODIFIED:20260415T155903Z
UID:10000029-1781204400-1781204400@92zew.net
SUMMARY:Beer\, BBQ & Bingo
DESCRIPTION:Join 92ZEW live at Moe’s Original BBQ for free Bingo each week! Win great prizes\, enjoy award winning BBQ and a cold one with Matt & Gene Tuesdays at Moe’s Original BBQ in Downtown Mobile and on Thursdays\, Clint & Cornbred bring the fun to Moe’s in Daphne!  Both nights start at 7PM.
URL:https://92zew.net/calendar/beer-bbq-bingo/2026-06-11/
LOCATION:Moe’s Original BBQ
CATEGORIES:92ZEW Live!
ATTACH;FMTTYPE=image/jpeg:https://92zew.net/wp-content/uploads/2026/04/BBB-feat-346-x-245-px.jpg
END:VEVENT
BEGIN:VEVENT
DTSTART;TZID=America/Chicago:20260616T190000
DTEND;TZID=America/Chicago:20260616T190000
DTSTAMP:20260419T190104
CREATED:20260415T160102Z
LAST-MODIFIED:20260415T160135Z
UID:10000289-1781636400-1781636400@92zew.net
SUMMARY:Beer\, BBQ & Bingo
DESCRIPTION:Join 92ZEW live at Moe’s Original BBQ for free Bingo each week! Win great prizes\, enjoy award winning BBQ and a cold one with Matt & Gene Tuesdays at Moe’s Original BBQ in Downtown Mobile and on Thursdays\, Clint & Cornbred bring the fun to Moe’s in Daphne!  Both nights start at 7PM.
URL:https://92zew.net/calendar/beer-bbq-bingo-2/2026-06-16/
LOCATION:Moe’s Original BBQ
CATEGORIES:92ZEW Live!
ATTACH;FMTTYPE=image/jpeg:https://92zew.net/wp-content/uploads/2026/04/BBB-feat-346-x-245-px.jpg
END:VEVENT
BEGIN:VEVENT
DTSTART;TZID=America/Chicago:20260618T190000
DTEND;TZID=America/Chicago:20260618T190000
DTSTAMP:20260419T190104
CREATED:20260410T055007Z
LAST-MODIFIED:20260415T155903Z
UID:10000030-1781809200-1781809200@92zew.net
SUMMARY:Beer\, BBQ & Bingo
DESCRIPTION:Join 92ZEW live at Moe’s Original BBQ for free Bingo each week! Win great prizes\, enjoy award winning BBQ and a cold one with Matt & Gene Tuesdays at Moe’s Original BBQ in Downtown Mobile and on Thursdays\, Clint & Cornbred bring the fun to Moe’s in Daphne!  Both nights start at 7PM.
URL:https://92zew.net/calendar/beer-bbq-bingo/2026-06-18/
LOCATION:Moe’s Original BBQ
CATEGORIES:92ZEW Live!
ATTACH;FMTTYPE=image/jpeg:https://92zew.net/wp-content/uploads/2026/04/BBB-feat-346-x-245-px.jpg
END:VEVENT
BEGIN:VEVENT
DTSTART;TZID=America/Chicago:20260623T190000
DTEND;TZID=America/Chicago:20260623T190000
DTSTAMP:20260419T190104
CREATED:20260415T160102Z
LAST-MODIFIED:20260415T160135Z
UID:10000290-1782241200-1782241200@92zew.net
SUMMARY:Beer\, BBQ & Bingo
DESCRIPTION:Join 92ZEW live at Moe’s Original BBQ for free Bingo each week! Win great prizes\, enjoy award winning BBQ and a cold one with Matt & Gene Tuesdays at Moe’s Original BBQ in Downtown Mobile and on Thursdays\, Clint & Cornbred bring the fun to Moe’s in Daphne!  Both nights start at 7PM.
URL:https://92zew.net/calendar/beer-bbq-bingo-2/2026-06-23/
LOCATION:Moe’s Original BBQ
CATEGORIES:92ZEW Live!
ATTACH;FMTTYPE=image/jpeg:https://92zew.net/wp-content/uploads/2026/04/BBB-feat-346-x-245-px.jpg
END:VEVENT
BEGIN:VEVENT
DTSTART;TZID=America/Chicago:20260625T190000
DTEND;TZID=America/Chicago:20260625T190000
DTSTAMP:20260419T190104
CREATED:20260410T055007Z
LAST-MODIFIED:20260415T155903Z
UID:10000031-1782414000-1782414000@92zew.net
SUMMARY:Beer\, BBQ & Bingo
DESCRIPTION:Join 92ZEW live at Moe’s Original BBQ for free Bingo each week! Win great prizes\, enjoy award winning BBQ and a cold one with Matt & Gene Tuesdays at Moe’s Original BBQ in Downtown Mobile and on Thursdays\, Clint & Cornbred bring the fun to Moe’s in Daphne!  Both nights start at 7PM.
URL:https://92zew.net/calendar/beer-bbq-bingo/2026-06-25/
LOCATION:Moe’s Original BBQ
CATEGORIES:92ZEW Live!
ATTACH;FMTTYPE=image/jpeg:https://92zew.net/wp-content/uploads/2026/04/BBB-feat-346-x-245-px.jpg
END:VEVENT
BEGIN:VEVENT
DTSTART;TZID=America/Chicago:20260630T190000
DTEND;TZID=America/Chicago:20260630T190000
DTSTAMP:20260419T190104
CREATED:20260415T160102Z
LAST-MODIFIED:20260415T160135Z
UID:10000291-1782846000-1782846000@92zew.net
SUMMARY:Beer\, BBQ & Bingo
DESCRIPTION:Join 92ZEW live at Moe’s Original BBQ for free Bingo each week! Win great prizes\, enjoy award winning BBQ and a cold one with Matt & Gene Tuesdays at Moe’s Original BBQ in Downtown Mobile and on Thursdays\, Clint & Cornbred bring the fun to Moe’s in Daphne!  Both nights start at 7PM.
URL:https://92zew.net/calendar/beer-bbq-bingo-2/2026-06-30/
LOCATION:Moe’s Original BBQ
CATEGORIES:92ZEW Live!
ATTACH;FMTTYPE=image/jpeg:https://92zew.net/wp-content/uploads/2026/04/BBB-feat-346-x-245-px.jpg
END:VEVENT
BEGIN:VEVENT
DTSTART;TZID=America/Chicago:20260702T190000
DTEND;TZID=America/Chicago:20260702T190000
DTSTAMP:20260419T190104
CREATED:20260410T055007Z
LAST-MODIFIED:20260415T155903Z
UID:10000032-1783018800-1783018800@92zew.net
SUMMARY:Beer\, BBQ & Bingo
DESCRIPTION:Join 92ZEW live at Moe’s Original BBQ for free Bingo each week! Win great prizes\, enjoy award winning BBQ and a cold one with Matt & Gene Tuesdays at Moe’s Original BBQ in Downtown Mobile and on Thursdays\, Clint & Cornbred bring the fun to Moe’s in Daphne!  Both nights start at 7PM.
URL:https://92zew.net/calendar/beer-bbq-bingo/2026-07-02/
LOCATION:Moe’s Original BBQ
CATEGORIES:92ZEW Live!
ATTACH;FMTTYPE=image/jpeg:https://92zew.net/wp-content/uploads/2026/04/BBB-feat-346-x-245-px.jpg
END:VEVENT
BEGIN:VEVENT
DTSTART;TZID=America/Chicago:20260707T190000
DTEND;TZID=America/Chicago:20260707T190000
DTSTAMP:20260419T190104
CREATED:20260415T160102Z
LAST-MODIFIED:20260415T160135Z
UID:10000292-1783450800-1783450800@92zew.net
SUMMARY:Beer\, BBQ & Bingo
DESCRIPTION:Join 92ZEW live at Moe’s Original BBQ for free Bingo each week! Win great prizes\, enjoy award winning BBQ and a cold one with Matt & Gene Tuesdays at Moe’s Original BBQ in Downtown Mobile and on Thursdays\, Clint & Cornbred bring the fun to Moe’s in Daphne!  Both nights start at 7PM.
URL:https://92zew.net/calendar/beer-bbq-bingo-2/2026-07-07/
LOCATION:Moe’s Original BBQ
CATEGORIES:92ZEW Live!
ATTACH;FMTTYPE=image/jpeg:https://92zew.net/wp-content/uploads/2026/04/BBB-feat-346-x-245-px.jpg
END:VEVENT
BEGIN:VEVENT
DTSTART;TZID=America/Chicago:20260709T190000
DTEND;TZID=America/Chicago:20260709T190000
DTSTAMP:20260419T190104
CREATED:20260410T055007Z
LAST-MODIFIED:20260415T155903Z
UID:10000033-1783623600-1783623600@92zew.net
SUMMARY:Beer\, BBQ & Bingo
DESCRIPTION:Join 92ZEW live at Moe’s Original BBQ for free Bingo each week! Win great prizes\, enjoy award winning BBQ and a cold one with Matt & Gene Tuesdays at Moe’s Original BBQ in Downtown Mobile and on Thursdays\, Clint & Cornbred bring the fun to Moe’s in Daphne!  Both nights start at 7PM.
URL:https://92zew.net/calendar/beer-bbq-bingo/2026-07-09/
LOCATION:Moe’s Original BBQ
CATEGORIES:92ZEW Live!
ATTACH;FMTTYPE=image/jpeg:https://92zew.net/wp-content/uploads/2026/04/BBB-feat-346-x-245-px.jpg
END:VEVENT
BEGIN:VEVENT
DTSTART;TZID=America/Chicago:20260712T184500
DTEND;TZID=America/Chicago:20260712T184500
DTSTAMP:20260419T190104
CREATED:20260413T034949Z
LAST-MODIFIED:20260413T035007Z
UID:10000015-1783881900-1783881900@92zew.net
SUMMARY:Train w Barenaked Ladies
DESCRIPTION:The Wharf Amphitheater \nDoors: 5:45PM \nShowtime: 6:45PM \nGet tickets at: https://www.ticketmaster.com/train-drops-of-jupiter-25-years-orange-beach-alabama-07-12-2026/event/1B006364AF2EB12E
URL:https://92zew.net/calendar/train-w-barenaked-ladies/
LOCATION:The Wharf Amphitheater
CATEGORIES:Concert
ATTACH;FMTTYPE=image/jpeg:https://92zew.net/wp-content/uploads/2025/11/Train-Up-e1763588692427.jpg
END:VEVENT
BEGIN:VEVENT
DTSTART;TZID=America/Chicago:20260714T190000
DTEND;TZID=America/Chicago:20260714T190000
DTSTAMP:20260419T190104
CREATED:20260415T160102Z
LAST-MODIFIED:20260415T160135Z
UID:10000293-1784055600-1784055600@92zew.net
SUMMARY:Beer\, BBQ & Bingo
DESCRIPTION:Join 92ZEW live at Moe’s Original BBQ for free Bingo each week! Win great prizes\, enjoy award winning BBQ and a cold one with Matt & Gene Tuesdays at Moe’s Original BBQ in Downtown Mobile and on Thursdays\, Clint & Cornbred bring the fun to Moe’s in Daphne!  Both nights start at 7PM.
URL:https://92zew.net/calendar/beer-bbq-bingo-2/2026-07-14/
LOCATION:Moe’s Original BBQ
CATEGORIES:92ZEW Live!
ATTACH;FMTTYPE=image/jpeg:https://92zew.net/wp-content/uploads/2026/04/BBB-feat-346-x-245-px.jpg
END:VEVENT
BEGIN:VEVENT
DTSTART;TZID=America/Chicago:20260716T190000
DTEND;TZID=America/Chicago:20260716T190000
DTSTAMP:20260419T190104
CREATED:20260410T055007Z
LAST-MODIFIED:20260415T155903Z
UID:10000034-1784228400-1784228400@92zew.net
SUMMARY:Beer\, BBQ & Bingo
DESCRIPTION:Join 92ZEW live at Moe’s Original BBQ for free Bingo each week! Win great prizes\, enjoy award winning BBQ and a cold one with Matt & Gene Tuesdays at Moe’s Original BBQ in Downtown Mobile and on Thursdays\, Clint & Cornbred bring the fun to Moe’s in Daphne!  Both nights start at 7PM.
URL:https://92zew.net/calendar/beer-bbq-bingo/2026-07-16/
LOCATION:Moe’s Original BBQ
CATEGORIES:92ZEW Live!
ATTACH;FMTTYPE=image/jpeg:https://92zew.net/wp-content/uploads/2026/04/BBB-feat-346-x-245-px.jpg
END:VEVENT
BEGIN:VEVENT
DTSTART;TZID=America/Chicago:20260721T190000
DTEND;TZID=America/Chicago:20260721T190000
DTSTAMP:20260419T190104
CREATED:20260415T160102Z
LAST-MODIFIED:20260415T160135Z
UID:10000294-1784660400-1784660400@92zew.net
SUMMARY:Beer\, BBQ & Bingo
DESCRIPTION:Join 92ZEW live at Moe’s Original BBQ for free Bingo each week! Win great prizes\, enjoy award winning BBQ and a cold one with Matt & Gene Tuesdays at Moe’s Original BBQ in Downtown Mobile and on Thursdays\, Clint & Cornbred bring the fun to Moe’s in Daphne!  Both nights start at 7PM.
URL:https://92zew.net/calendar/beer-bbq-bingo-2/2026-07-21/
LOCATION:Moe’s Original BBQ
CATEGORIES:92ZEW Live!
ATTACH;FMTTYPE=image/jpeg:https://92zew.net/wp-content/uploads/2026/04/BBB-feat-346-x-245-px.jpg
END:VEVENT
BEGIN:VEVENT
DTSTART;TZID=America/Chicago:20260723T190000
DTEND;TZID=America/Chicago:20260723T190000
DTSTAMP:20260419T190104
CREATED:20260410T055007Z
LAST-MODIFIED:20260415T155903Z
UID:10000035-1784833200-1784833200@92zew.net
SUMMARY:Beer\, BBQ & Bingo
DESCRIPTION:Join 92ZEW live at Moe’s Original BBQ for free Bingo each week! Win great prizes\, enjoy award winning BBQ and a cold one with Matt & Gene Tuesdays at Moe’s Original BBQ in Downtown Mobile and on Thursdays\, Clint & Cornbred bring the fun to Moe’s in Daphne!  Both nights start at 7PM.
URL:https://92zew.net/calendar/beer-bbq-bingo/2026-07-23/
LOCATION:Moe’s Original BBQ
CATEGORIES:92ZEW Live!
ATTACH;FMTTYPE=image/jpeg:https://92zew.net/wp-content/uploads/2026/04/BBB-feat-346-x-245-px.jpg
END:VEVENT
BEGIN:VEVENT
DTSTART;TZID=America/Chicago:20260724T190000
DTEND;TZID=America/Chicago:20260724T190000
DTSTAMP:20260419T190104
CREATED:20260413T035345Z
LAST-MODIFIED:20260413T035352Z
UID:10000016-1784919600-1784919600@92zew.net
SUMMARY:Creed - Summer of '99 Tour
DESCRIPTION:The Wharf Amphitheater \nDoors: 6PM \nShowtime: 7PM \nGet tickets at: https://www.ticketmaster.com/creed-summer-of-99-tour-orange-beach-alabama-07-24-2026/event/1B00642FA71EC798
URL:https://92zew.net/calendar/creed-summer-of-99-tour/
LOCATION:The Wharf Amphitheater
CATEGORIES:Concert
ATTACH;FMTTYPE=image/jpeg:https://92zew.net/wp-content/uploads/2026/04/static_vip_1280x1280_creed_2025_national_1733851746.jpg
END:VEVENT
BEGIN:VEVENT
DTSTART;TZID=America/Chicago:20260728T190000
DTEND;TZID=America/Chicago:20260728T190000
DTSTAMP:20260419T190104
CREATED:20260415T160102Z
LAST-MODIFIED:20260415T160135Z
UID:10000295-1785265200-1785265200@92zew.net
SUMMARY:Beer\, BBQ & Bingo
DESCRIPTION:Join 92ZEW live at Moe’s Original BBQ for free Bingo each week! Win great prizes\, enjoy award winning BBQ and a cold one with Matt & Gene Tuesdays at Moe’s Original BBQ in Downtown Mobile and on Thursdays\, Clint & Cornbred bring the fun to Moe’s in Daphne!  Both nights start at 7PM.
URL:https://92zew.net/calendar/beer-bbq-bingo-2/2026-07-28/
LOCATION:Moe’s Original BBQ
CATEGORIES:92ZEW Live!
ATTACH;FMTTYPE=image/jpeg:https://92zew.net/wp-content/uploads/2026/04/BBB-feat-346-x-245-px.jpg
END:VEVENT
END:VCALENDAR