BEGIN:VCALENDAR
VERSION:2.0
PRODID:-//92ZEW - ECPv6.15.20//NONSGML v1.0//EN
CALSCALE:GREGORIAN
METHOD:PUBLISH
X-ORIGINAL-URL:https://92zew.net
X-WR-CALDESC:Events for 92ZEW
REFRESH-INTERVAL;VALUE=DURATION:PT1H
X-Robots-Tag:noindex
X-PUBLISHED-TTL:PT1H
BEGIN:VTIMEZONE
TZID:America/Chicago
BEGIN:DAYLIGHT
TZOFFSETFROM:-0600
TZOFFSETTO:-0500
TZNAME:CDT
DTSTART:20280312T080000
END:DAYLIGHT
BEGIN:STANDARD
TZOFFSETFROM:-0500
TZOFFSETTO:-0600
TZNAME:CST
DTSTART:20281105T070000
END:STANDARD
BEGIN:DAYLIGHT
TZOFFSETFROM:-0600
TZOFFSETTO:-0500
TZNAME:CDT
DTSTART:20290311T080000
END:DAYLIGHT
BEGIN:STANDARD
TZOFFSETFROM:-0500
TZOFFSETTO:-0600
TZNAME:CST
DTSTART:20291104T070000
END:STANDARD
BEGIN:DAYLIGHT
TZOFFSETFROM:-0600
TZOFFSETTO:-0500
TZNAME:CDT
DTSTART:20300310T080000
END:DAYLIGHT
BEGIN:STANDARD
TZOFFSETFROM:-0500
TZOFFSETTO:-0600
TZNAME:CST
DTSTART:20301103T070000
END:STANDARD
END:VTIMEZONE
BEGIN:VEVENT
DTSTART;TZID=America/Chicago:20290501T190000
DTEND;TZID=America/Chicago:20290501T190000
DTSTAMP:20260421T202244
CREATED:20260415T160102Z
LAST-MODIFIED:20260415T160135Z
UID:10000439-1872356400-1872356400@92zew.net
SUMMARY:Beer\, BBQ & Bingo
DESCRIPTION:Join 92ZEW live at Moe’s Original BBQ for free Bingo each week! Win great prizes\, enjoy award winning BBQ and a cold one with Matt & Gene Tuesdays at Moe’s Original BBQ in Downtown Mobile and on Thursdays\, Clint & Cornbred bring the fun to Moe’s in Daphne!  Both nights start at 7PM.
URL:https://92zew.net/calendar/beer-bbq-bingo-2/2029-05-01/
LOCATION:Moe’s Original BBQ
CATEGORIES:92ZEW Live!
ATTACH;FMTTYPE=image/jpeg:https://92zew.net/wp-content/uploads/2026/04/BBB-feat-346-x-245-px.jpg
END:VEVENT
BEGIN:VEVENT
DTSTART;TZID=America/Chicago:20290503T190000
DTEND;TZID=America/Chicago:20290503T190000
DTSTAMP:20260421T202244
CREATED:20260410T055007Z
LAST-MODIFIED:20260415T155903Z
UID:10000180-1872529200-1872529200@92zew.net
SUMMARY:Beer\, BBQ & Bingo
DESCRIPTION:Join 92ZEW live at Moe’s Original BBQ for free Bingo each week! Win great prizes\, enjoy award winning BBQ and a cold one with Matt & Gene Tuesdays at Moe’s Original BBQ in Downtown Mobile and on Thursdays\, Clint & Cornbred bring the fun to Moe’s in Daphne!  Both nights start at 7PM.
URL:https://92zew.net/calendar/beer-bbq-bingo/2029-05-03/
LOCATION:Moe’s Original BBQ
CATEGORIES:92ZEW Live!
ATTACH;FMTTYPE=image/jpeg:https://92zew.net/wp-content/uploads/2026/04/BBB-feat-346-x-245-px.jpg
END:VEVENT
BEGIN:VEVENT
DTSTART;TZID=America/Chicago:20290508T190000
DTEND;TZID=America/Chicago:20290508T190000
DTSTAMP:20260421T202244
CREATED:20260415T160102Z
LAST-MODIFIED:20260415T160135Z
UID:10000440-1872961200-1872961200@92zew.net
SUMMARY:Beer\, BBQ & Bingo
DESCRIPTION:Join 92ZEW live at Moe’s Original BBQ for free Bingo each week! Win great prizes\, enjoy award winning BBQ and a cold one with Matt & Gene Tuesdays at Moe’s Original BBQ in Downtown Mobile and on Thursdays\, Clint & Cornbred bring the fun to Moe’s in Daphne!  Both nights start at 7PM.
URL:https://92zew.net/calendar/beer-bbq-bingo-2/2029-05-08/
LOCATION:Moe’s Original BBQ
CATEGORIES:92ZEW Live!
ATTACH;FMTTYPE=image/jpeg:https://92zew.net/wp-content/uploads/2026/04/BBB-feat-346-x-245-px.jpg
END:VEVENT
BEGIN:VEVENT
DTSTART;TZID=America/Chicago:20290510T190000
DTEND;TZID=America/Chicago:20290510T190000
DTSTAMP:20260421T202244
CREATED:20260410T055007Z
LAST-MODIFIED:20260415T155903Z
UID:10000181-1873134000-1873134000@92zew.net
SUMMARY:Beer\, BBQ & Bingo
DESCRIPTION:Join 92ZEW live at Moe’s Original BBQ for free Bingo each week! Win great prizes\, enjoy award winning BBQ and a cold one with Matt & Gene Tuesdays at Moe’s Original BBQ in Downtown Mobile and on Thursdays\, Clint & Cornbred bring the fun to Moe’s in Daphne!  Both nights start at 7PM.
URL:https://92zew.net/calendar/beer-bbq-bingo/2029-05-10/
LOCATION:Moe’s Original BBQ
CATEGORIES:92ZEW Live!
ATTACH;FMTTYPE=image/jpeg:https://92zew.net/wp-content/uploads/2026/04/BBB-feat-346-x-245-px.jpg
END:VEVENT
BEGIN:VEVENT
DTSTART;TZID=America/Chicago:20290515T190000
DTEND;TZID=America/Chicago:20290515T190000
DTSTAMP:20260421T202244
CREATED:20260415T160102Z
LAST-MODIFIED:20260415T160135Z
UID:10000441-1873566000-1873566000@92zew.net
SUMMARY:Beer\, BBQ & Bingo
DESCRIPTION:Join 92ZEW live at Moe’s Original BBQ for free Bingo each week! Win great prizes\, enjoy award winning BBQ and a cold one with Matt & Gene Tuesdays at Moe’s Original BBQ in Downtown Mobile and on Thursdays\, Clint & Cornbred bring the fun to Moe’s in Daphne!  Both nights start at 7PM.
URL:https://92zew.net/calendar/beer-bbq-bingo-2/2029-05-15/
LOCATION:Moe’s Original BBQ
CATEGORIES:92ZEW Live!
ATTACH;FMTTYPE=image/jpeg:https://92zew.net/wp-content/uploads/2026/04/BBB-feat-346-x-245-px.jpg
END:VEVENT
BEGIN:VEVENT
DTSTART;TZID=America/Chicago:20290517T190000
DTEND;TZID=America/Chicago:20290517T190000
DTSTAMP:20260421T202244
CREATED:20260410T055007Z
LAST-MODIFIED:20260415T155903Z
UID:10000182-1873738800-1873738800@92zew.net
SUMMARY:Beer\, BBQ & Bingo
DESCRIPTION:Join 92ZEW live at Moe’s Original BBQ for free Bingo each week! Win great prizes\, enjoy award winning BBQ and a cold one with Matt & Gene Tuesdays at Moe’s Original BBQ in Downtown Mobile and on Thursdays\, Clint & Cornbred bring the fun to Moe’s in Daphne!  Both nights start at 7PM.
URL:https://92zew.net/calendar/beer-bbq-bingo/2029-05-17/
LOCATION:Moe’s Original BBQ
CATEGORIES:92ZEW Live!
ATTACH;FMTTYPE=image/jpeg:https://92zew.net/wp-content/uploads/2026/04/BBB-feat-346-x-245-px.jpg
END:VEVENT
BEGIN:VEVENT
DTSTART;TZID=America/Chicago:20290522T190000
DTEND;TZID=America/Chicago:20290522T190000
DTSTAMP:20260421T202244
CREATED:20260415T160102Z
LAST-MODIFIED:20260415T160135Z
UID:10000442-1874170800-1874170800@92zew.net
SUMMARY:Beer\, BBQ & Bingo
DESCRIPTION:Join 92ZEW live at Moe’s Original BBQ for free Bingo each week! Win great prizes\, enjoy award winning BBQ and a cold one with Matt & Gene Tuesdays at Moe’s Original BBQ in Downtown Mobile and on Thursdays\, Clint & Cornbred bring the fun to Moe’s in Daphne!  Both nights start at 7PM.
URL:https://92zew.net/calendar/beer-bbq-bingo-2/2029-05-22/
LOCATION:Moe’s Original BBQ
CATEGORIES:92ZEW Live!
ATTACH;FMTTYPE=image/jpeg:https://92zew.net/wp-content/uploads/2026/04/BBB-feat-346-x-245-px.jpg
END:VEVENT
BEGIN:VEVENT
DTSTART;TZID=America/Chicago:20290524T190000
DTEND;TZID=America/Chicago:20290524T190000
DTSTAMP:20260421T202245
CREATED:20260410T055007Z
LAST-MODIFIED:20260415T155903Z
UID:10000183-1874343600-1874343600@92zew.net
SUMMARY:Beer\, BBQ & Bingo
DESCRIPTION:Join 92ZEW live at Moe’s Original BBQ for free Bingo each week! Win great prizes\, enjoy award winning BBQ and a cold one with Matt & Gene Tuesdays at Moe’s Original BBQ in Downtown Mobile and on Thursdays\, Clint & Cornbred bring the fun to Moe’s in Daphne!  Both nights start at 7PM.
URL:https://92zew.net/calendar/beer-bbq-bingo/2029-05-24/
LOCATION:Moe’s Original BBQ
CATEGORIES:92ZEW Live!
ATTACH;FMTTYPE=image/jpeg:https://92zew.net/wp-content/uploads/2026/04/BBB-feat-346-x-245-px.jpg
END:VEVENT
BEGIN:VEVENT
DTSTART;TZID=America/Chicago:20290529T190000
DTEND;TZID=America/Chicago:20290529T190000
DTSTAMP:20260421T202245
CREATED:20260415T160102Z
LAST-MODIFIED:20260415T160135Z
UID:10000443-1874775600-1874775600@92zew.net
SUMMARY:Beer\, BBQ & Bingo
DESCRIPTION:Join 92ZEW live at Moe’s Original BBQ for free Bingo each week! Win great prizes\, enjoy award winning BBQ and a cold one with Matt & Gene Tuesdays at Moe’s Original BBQ in Downtown Mobile and on Thursdays\, Clint & Cornbred bring the fun to Moe’s in Daphne!  Both nights start at 7PM.
URL:https://92zew.net/calendar/beer-bbq-bingo-2/2029-05-29/
LOCATION:Moe’s Original BBQ
CATEGORIES:92ZEW Live!
ATTACH;FMTTYPE=image/jpeg:https://92zew.net/wp-content/uploads/2026/04/BBB-feat-346-x-245-px.jpg
END:VEVENT
BEGIN:VEVENT
DTSTART;TZID=America/Chicago:20290531T190000
DTEND;TZID=America/Chicago:20290531T190000
DTSTAMP:20260421T202245
CREATED:20260410T055007Z
LAST-MODIFIED:20260415T155903Z
UID:10000184-1874948400-1874948400@92zew.net
SUMMARY:Beer\, BBQ & Bingo
DESCRIPTION:Join 92ZEW live at Moe’s Original BBQ for free Bingo each week! Win great prizes\, enjoy award winning BBQ and a cold one with Matt & Gene Tuesdays at Moe’s Original BBQ in Downtown Mobile and on Thursdays\, Clint & Cornbred bring the fun to Moe’s in Daphne!  Both nights start at 7PM.
URL:https://92zew.net/calendar/beer-bbq-bingo/2029-05-31/
LOCATION:Moe’s Original BBQ
CATEGORIES:92ZEW Live!
ATTACH;FMTTYPE=image/jpeg:https://92zew.net/wp-content/uploads/2026/04/BBB-feat-346-x-245-px.jpg
END:VEVENT
BEGIN:VEVENT
DTSTART;TZID=America/Chicago:20290605T190000
DTEND;TZID=America/Chicago:20290605T190000
DTSTAMP:20260421T202245
CREATED:20260415T160102Z
LAST-MODIFIED:20260415T160135Z
UID:10000444-1875380400-1875380400@92zew.net
SUMMARY:Beer\, BBQ & Bingo
DESCRIPTION:Join 92ZEW live at Moe’s Original BBQ for free Bingo each week! Win great prizes\, enjoy award winning BBQ and a cold one with Matt & Gene Tuesdays at Moe’s Original BBQ in Downtown Mobile and on Thursdays\, Clint & Cornbred bring the fun to Moe’s in Daphne!  Both nights start at 7PM.
URL:https://92zew.net/calendar/beer-bbq-bingo-2/2029-06-05/
LOCATION:Moe’s Original BBQ
CATEGORIES:92ZEW Live!
ATTACH;FMTTYPE=image/jpeg:https://92zew.net/wp-content/uploads/2026/04/BBB-feat-346-x-245-px.jpg
END:VEVENT
BEGIN:VEVENT
DTSTART;TZID=America/Chicago:20290607T190000
DTEND;TZID=America/Chicago:20290607T190000
DTSTAMP:20260421T202245
CREATED:20260410T055007Z
LAST-MODIFIED:20260415T155903Z
UID:10000185-1875553200-1875553200@92zew.net
SUMMARY:Beer\, BBQ & Bingo
DESCRIPTION:Join 92ZEW live at Moe’s Original BBQ for free Bingo each week! Win great prizes\, enjoy award winning BBQ and a cold one with Matt & Gene Tuesdays at Moe’s Original BBQ in Downtown Mobile and on Thursdays\, Clint & Cornbred bring the fun to Moe’s in Daphne!  Both nights start at 7PM.
URL:https://92zew.net/calendar/beer-bbq-bingo/2029-06-07/
LOCATION:Moe’s Original BBQ
CATEGORIES:92ZEW Live!
ATTACH;FMTTYPE=image/jpeg:https://92zew.net/wp-content/uploads/2026/04/BBB-feat-346-x-245-px.jpg
END:VEVENT
BEGIN:VEVENT
DTSTART;TZID=America/Chicago:20290612T190000
DTEND;TZID=America/Chicago:20290612T190000
DTSTAMP:20260421T202245
CREATED:20260415T160102Z
LAST-MODIFIED:20260415T160135Z
UID:10000445-1875985200-1875985200@92zew.net
SUMMARY:Beer\, BBQ & Bingo
DESCRIPTION:Join 92ZEW live at Moe’s Original BBQ for free Bingo each week! Win great prizes\, enjoy award winning BBQ and a cold one with Matt & Gene Tuesdays at Moe’s Original BBQ in Downtown Mobile and on Thursdays\, Clint & Cornbred bring the fun to Moe’s in Daphne!  Both nights start at 7PM.
URL:https://92zew.net/calendar/beer-bbq-bingo-2/2029-06-12/
LOCATION:Moe’s Original BBQ
CATEGORIES:92ZEW Live!
ATTACH;FMTTYPE=image/jpeg:https://92zew.net/wp-content/uploads/2026/04/BBB-feat-346-x-245-px.jpg
END:VEVENT
BEGIN:VEVENT
DTSTART;TZID=America/Chicago:20290614T190000
DTEND;TZID=America/Chicago:20290614T190000
DTSTAMP:20260421T202245
CREATED:20260410T055007Z
LAST-MODIFIED:20260415T155903Z
UID:10000186-1876158000-1876158000@92zew.net
SUMMARY:Beer\, BBQ & Bingo
DESCRIPTION:Join 92ZEW live at Moe’s Original BBQ for free Bingo each week! Win great prizes\, enjoy award winning BBQ and a cold one with Matt & Gene Tuesdays at Moe’s Original BBQ in Downtown Mobile and on Thursdays\, Clint & Cornbred bring the fun to Moe’s in Daphne!  Both nights start at 7PM.
URL:https://92zew.net/calendar/beer-bbq-bingo/2029-06-14/
LOCATION:Moe’s Original BBQ
CATEGORIES:92ZEW Live!
ATTACH;FMTTYPE=image/jpeg:https://92zew.net/wp-content/uploads/2026/04/BBB-feat-346-x-245-px.jpg
END:VEVENT
BEGIN:VEVENT
DTSTART;TZID=America/Chicago:20290619T190000
DTEND;TZID=America/Chicago:20290619T190000
DTSTAMP:20260421T202245
CREATED:20260415T160102Z
LAST-MODIFIED:20260415T160135Z
UID:10000446-1876590000-1876590000@92zew.net
SUMMARY:Beer\, BBQ & Bingo
DESCRIPTION:Join 92ZEW live at Moe’s Original BBQ for free Bingo each week! Win great prizes\, enjoy award winning BBQ and a cold one with Matt & Gene Tuesdays at Moe’s Original BBQ in Downtown Mobile and on Thursdays\, Clint & Cornbred bring the fun to Moe’s in Daphne!  Both nights start at 7PM.
URL:https://92zew.net/calendar/beer-bbq-bingo-2/2029-06-19/
LOCATION:Moe’s Original BBQ
CATEGORIES:92ZEW Live!
ATTACH;FMTTYPE=image/jpeg:https://92zew.net/wp-content/uploads/2026/04/BBB-feat-346-x-245-px.jpg
END:VEVENT
BEGIN:VEVENT
DTSTART;TZID=America/Chicago:20290621T190000
DTEND;TZID=America/Chicago:20290621T190000
DTSTAMP:20260421T202245
CREATED:20260410T055007Z
LAST-MODIFIED:20260415T155903Z
UID:10000187-1876762800-1876762800@92zew.net
SUMMARY:Beer\, BBQ & Bingo
DESCRIPTION:Join 92ZEW live at Moe’s Original BBQ for free Bingo each week! Win great prizes\, enjoy award winning BBQ and a cold one with Matt & Gene Tuesdays at Moe’s Original BBQ in Downtown Mobile and on Thursdays\, Clint & Cornbred bring the fun to Moe’s in Daphne!  Both nights start at 7PM.
URL:https://92zew.net/calendar/beer-bbq-bingo/2029-06-21/
LOCATION:Moe’s Original BBQ
CATEGORIES:92ZEW Live!
ATTACH;FMTTYPE=image/jpeg:https://92zew.net/wp-content/uploads/2026/04/BBB-feat-346-x-245-px.jpg
END:VEVENT
BEGIN:VEVENT
DTSTART;TZID=America/Chicago:20290626T190000
DTEND;TZID=America/Chicago:20290626T190000
DTSTAMP:20260421T202245
CREATED:20260415T160102Z
LAST-MODIFIED:20260415T160135Z
UID:10000447-1877194800-1877194800@92zew.net
SUMMARY:Beer\, BBQ & Bingo
DESCRIPTION:Join 92ZEW live at Moe’s Original BBQ for free Bingo each week! Win great prizes\, enjoy award winning BBQ and a cold one with Matt & Gene Tuesdays at Moe’s Original BBQ in Downtown Mobile and on Thursdays\, Clint & Cornbred bring the fun to Moe’s in Daphne!  Both nights start at 7PM.
URL:https://92zew.net/calendar/beer-bbq-bingo-2/2029-06-26/
LOCATION:Moe’s Original BBQ
CATEGORIES:92ZEW Live!
ATTACH;FMTTYPE=image/jpeg:https://92zew.net/wp-content/uploads/2026/04/BBB-feat-346-x-245-px.jpg
END:VEVENT
BEGIN:VEVENT
DTSTART;TZID=America/Chicago:20290628T190000
DTEND;TZID=America/Chicago:20290628T190000
DTSTAMP:20260421T202245
CREATED:20260410T055007Z
LAST-MODIFIED:20260415T155903Z
UID:10000188-1877367600-1877367600@92zew.net
SUMMARY:Beer\, BBQ & Bingo
DESCRIPTION:Join 92ZEW live at Moe’s Original BBQ for free Bingo each week! Win great prizes\, enjoy award winning BBQ and a cold one with Matt & Gene Tuesdays at Moe’s Original BBQ in Downtown Mobile and on Thursdays\, Clint & Cornbred bring the fun to Moe’s in Daphne!  Both nights start at 7PM.
URL:https://92zew.net/calendar/beer-bbq-bingo/2029-06-28/
LOCATION:Moe’s Original BBQ
CATEGORIES:92ZEW Live!
ATTACH;FMTTYPE=image/jpeg:https://92zew.net/wp-content/uploads/2026/04/BBB-feat-346-x-245-px.jpg
END:VEVENT
BEGIN:VEVENT
DTSTART;TZID=America/Chicago:20290703T190000
DTEND;TZID=America/Chicago:20290703T190000
DTSTAMP:20260421T202245
CREATED:20260415T160102Z
LAST-MODIFIED:20260415T160135Z
UID:10000448-1877799600-1877799600@92zew.net
SUMMARY:Beer\, BBQ & Bingo
DESCRIPTION:Join 92ZEW live at Moe’s Original BBQ for free Bingo each week! Win great prizes\, enjoy award winning BBQ and a cold one with Matt & Gene Tuesdays at Moe’s Original BBQ in Downtown Mobile and on Thursdays\, Clint & Cornbred bring the fun to Moe’s in Daphne!  Both nights start at 7PM.
URL:https://92zew.net/calendar/beer-bbq-bingo-2/2029-07-03/
LOCATION:Moe’s Original BBQ
CATEGORIES:92ZEW Live!
ATTACH;FMTTYPE=image/jpeg:https://92zew.net/wp-content/uploads/2026/04/BBB-feat-346-x-245-px.jpg
END:VEVENT
BEGIN:VEVENT
DTSTART;TZID=America/Chicago:20290705T190000
DTEND;TZID=America/Chicago:20290705T190000
DTSTAMP:20260421T202245
CREATED:20260410T055007Z
LAST-MODIFIED:20260415T155903Z
UID:10000189-1877972400-1877972400@92zew.net
SUMMARY:Beer\, BBQ & Bingo
DESCRIPTION:Join 92ZEW live at Moe’s Original BBQ for free Bingo each week! Win great prizes\, enjoy award winning BBQ and a cold one with Matt & Gene Tuesdays at Moe’s Original BBQ in Downtown Mobile and on Thursdays\, Clint & Cornbred bring the fun to Moe’s in Daphne!  Both nights start at 7PM.
URL:https://92zew.net/calendar/beer-bbq-bingo/2029-07-05/
LOCATION:Moe’s Original BBQ
CATEGORIES:92ZEW Live!
ATTACH;FMTTYPE=image/jpeg:https://92zew.net/wp-content/uploads/2026/04/BBB-feat-346-x-245-px.jpg
END:VEVENT
BEGIN:VEVENT
DTSTART;TZID=America/Chicago:20290710T190000
DTEND;TZID=America/Chicago:20290710T190000
DTSTAMP:20260421T202245
CREATED:20260415T160102Z
LAST-MODIFIED:20260415T160135Z
UID:10000449-1878404400-1878404400@92zew.net
SUMMARY:Beer\, BBQ & Bingo
DESCRIPTION:Join 92ZEW live at Moe’s Original BBQ for free Bingo each week! Win great prizes\, enjoy award winning BBQ and a cold one with Matt & Gene Tuesdays at Moe’s Original BBQ in Downtown Mobile and on Thursdays\, Clint & Cornbred bring the fun to Moe’s in Daphne!  Both nights start at 7PM.
URL:https://92zew.net/calendar/beer-bbq-bingo-2/2029-07-10/
LOCATION:Moe’s Original BBQ
CATEGORIES:92ZEW Live!
ATTACH;FMTTYPE=image/jpeg:https://92zew.net/wp-content/uploads/2026/04/BBB-feat-346-x-245-px.jpg
END:VEVENT
BEGIN:VEVENT
DTSTART;TZID=America/Chicago:20290712T190000
DTEND;TZID=America/Chicago:20290712T190000
DTSTAMP:20260421T202245
CREATED:20260410T055007Z
LAST-MODIFIED:20260415T155903Z
UID:10000190-1878577200-1878577200@92zew.net
SUMMARY:Beer\, BBQ & Bingo
DESCRIPTION:Join 92ZEW live at Moe’s Original BBQ for free Bingo each week! Win great prizes\, enjoy award winning BBQ and a cold one with Matt & Gene Tuesdays at Moe’s Original BBQ in Downtown Mobile and on Thursdays\, Clint & Cornbred bring the fun to Moe’s in Daphne!  Both nights start at 7PM.
URL:https://92zew.net/calendar/beer-bbq-bingo/2029-07-12/
LOCATION:Moe’s Original BBQ
CATEGORIES:92ZEW Live!
ATTACH;FMTTYPE=image/jpeg:https://92zew.net/wp-content/uploads/2026/04/BBB-feat-346-x-245-px.jpg
END:VEVENT
BEGIN:VEVENT
DTSTART;TZID=America/Chicago:20290717T190000
DTEND;TZID=America/Chicago:20290717T190000
DTSTAMP:20260421T202245
CREATED:20260415T160102Z
LAST-MODIFIED:20260415T160135Z
UID:10000450-1879009200-1879009200@92zew.net
SUMMARY:Beer\, BBQ & Bingo
DESCRIPTION:Join 92ZEW live at Moe’s Original BBQ for free Bingo each week! Win great prizes\, enjoy award winning BBQ and a cold one with Matt & Gene Tuesdays at Moe’s Original BBQ in Downtown Mobile and on Thursdays\, Clint & Cornbred bring the fun to Moe’s in Daphne!  Both nights start at 7PM.
URL:https://92zew.net/calendar/beer-bbq-bingo-2/2029-07-17/
LOCATION:Moe’s Original BBQ
CATEGORIES:92ZEW Live!
ATTACH;FMTTYPE=image/jpeg:https://92zew.net/wp-content/uploads/2026/04/BBB-feat-346-x-245-px.jpg
END:VEVENT
BEGIN:VEVENT
DTSTART;TZID=America/Chicago:20290719T190000
DTEND;TZID=America/Chicago:20290719T190000
DTSTAMP:20260421T202245
CREATED:20260410T055007Z
LAST-MODIFIED:20260415T155903Z
UID:10000191-1879182000-1879182000@92zew.net
SUMMARY:Beer\, BBQ & Bingo
DESCRIPTION:Join 92ZEW live at Moe’s Original BBQ for free Bingo each week! Win great prizes\, enjoy award winning BBQ and a cold one with Matt & Gene Tuesdays at Moe’s Original BBQ in Downtown Mobile and on Thursdays\, Clint & Cornbred bring the fun to Moe’s in Daphne!  Both nights start at 7PM.
URL:https://92zew.net/calendar/beer-bbq-bingo/2029-07-19/
LOCATION:Moe’s Original BBQ
CATEGORIES:92ZEW Live!
ATTACH;FMTTYPE=image/jpeg:https://92zew.net/wp-content/uploads/2026/04/BBB-feat-346-x-245-px.jpg
END:VEVENT
BEGIN:VEVENT
DTSTART;TZID=America/Chicago:20290724T190000
DTEND;TZID=America/Chicago:20290724T190000
DTSTAMP:20260421T202245
CREATED:20260415T160102Z
LAST-MODIFIED:20260415T160135Z
UID:10000451-1879614000-1879614000@92zew.net
SUMMARY:Beer\, BBQ & Bingo
DESCRIPTION:Join 92ZEW live at Moe’s Original BBQ for free Bingo each week! Win great prizes\, enjoy award winning BBQ and a cold one with Matt & Gene Tuesdays at Moe’s Original BBQ in Downtown Mobile and on Thursdays\, Clint & Cornbred bring the fun to Moe’s in Daphne!  Both nights start at 7PM.
URL:https://92zew.net/calendar/beer-bbq-bingo-2/2029-07-24/
LOCATION:Moe’s Original BBQ
CATEGORIES:92ZEW Live!
ATTACH;FMTTYPE=image/jpeg:https://92zew.net/wp-content/uploads/2026/04/BBB-feat-346-x-245-px.jpg
END:VEVENT
BEGIN:VEVENT
DTSTART;TZID=America/Chicago:20290726T190000
DTEND;TZID=America/Chicago:20290726T190000
DTSTAMP:20260421T202245
CREATED:20260410T055007Z
LAST-MODIFIED:20260415T155903Z
UID:10000192-1879786800-1879786800@92zew.net
SUMMARY:Beer\, BBQ & Bingo
DESCRIPTION:Join 92ZEW live at Moe’s Original BBQ for free Bingo each week! Win great prizes\, enjoy award winning BBQ and a cold one with Matt & Gene Tuesdays at Moe’s Original BBQ in Downtown Mobile and on Thursdays\, Clint & Cornbred bring the fun to Moe’s in Daphne!  Both nights start at 7PM.
URL:https://92zew.net/calendar/beer-bbq-bingo/2029-07-26/
LOCATION:Moe’s Original BBQ
CATEGORIES:92ZEW Live!
ATTACH;FMTTYPE=image/jpeg:https://92zew.net/wp-content/uploads/2026/04/BBB-feat-346-x-245-px.jpg
END:VEVENT
BEGIN:VEVENT
DTSTART;TZID=America/Chicago:20290731T190000
DTEND;TZID=America/Chicago:20290731T190000
DTSTAMP:20260421T202245
CREATED:20260415T160102Z
LAST-MODIFIED:20260415T160135Z
UID:10000452-1880218800-1880218800@92zew.net
SUMMARY:Beer\, BBQ & Bingo
DESCRIPTION:Join 92ZEW live at Moe’s Original BBQ for free Bingo each week! Win great prizes\, enjoy award winning BBQ and a cold one with Matt & Gene Tuesdays at Moe’s Original BBQ in Downtown Mobile and on Thursdays\, Clint & Cornbred bring the fun to Moe’s in Daphne!  Both nights start at 7PM.
URL:https://92zew.net/calendar/beer-bbq-bingo-2/2029-07-31/
LOCATION:Moe’s Original BBQ
CATEGORIES:92ZEW Live!
ATTACH;FMTTYPE=image/jpeg:https://92zew.net/wp-content/uploads/2026/04/BBB-feat-346-x-245-px.jpg
END:VEVENT
BEGIN:VEVENT
DTSTART;TZID=America/Chicago:20290802T190000
DTEND;TZID=America/Chicago:20290802T190000
DTSTAMP:20260421T202245
CREATED:20260410T055007Z
LAST-MODIFIED:20260415T155903Z
UID:10000193-1880391600-1880391600@92zew.net
SUMMARY:Beer\, BBQ & Bingo
DESCRIPTION:Join 92ZEW live at Moe’s Original BBQ for free Bingo each week! Win great prizes\, enjoy award winning BBQ and a cold one with Matt & Gene Tuesdays at Moe’s Original BBQ in Downtown Mobile and on Thursdays\, Clint & Cornbred bring the fun to Moe’s in Daphne!  Both nights start at 7PM.
URL:https://92zew.net/calendar/beer-bbq-bingo/2029-08-02/
LOCATION:Moe’s Original BBQ
CATEGORIES:92ZEW Live!
ATTACH;FMTTYPE=image/jpeg:https://92zew.net/wp-content/uploads/2026/04/BBB-feat-346-x-245-px.jpg
END:VEVENT
BEGIN:VEVENT
DTSTART;TZID=America/Chicago:20290807T190000
DTEND;TZID=America/Chicago:20290807T190000
DTSTAMP:20260421T202245
CREATED:20260415T160102Z
LAST-MODIFIED:20260415T160135Z
UID:10000453-1880823600-1880823600@92zew.net
SUMMARY:Beer\, BBQ & Bingo
DESCRIPTION:Join 92ZEW live at Moe’s Original BBQ for free Bingo each week! Win great prizes\, enjoy award winning BBQ and a cold one with Matt & Gene Tuesdays at Moe’s Original BBQ in Downtown Mobile and on Thursdays\, Clint & Cornbred bring the fun to Moe’s in Daphne!  Both nights start at 7PM.
URL:https://92zew.net/calendar/beer-bbq-bingo-2/2029-08-07/
LOCATION:Moe’s Original BBQ
CATEGORIES:92ZEW Live!
ATTACH;FMTTYPE=image/jpeg:https://92zew.net/wp-content/uploads/2026/04/BBB-feat-346-x-245-px.jpg
END:VEVENT
BEGIN:VEVENT
DTSTART;TZID=America/Chicago:20290809T190000
DTEND;TZID=America/Chicago:20290809T190000
DTSTAMP:20260421T202245
CREATED:20260410T055007Z
LAST-MODIFIED:20260415T155903Z
UID:10000194-1880996400-1880996400@92zew.net
SUMMARY:Beer\, BBQ & Bingo
DESCRIPTION:Join 92ZEW live at Moe’s Original BBQ for free Bingo each week! Win great prizes\, enjoy award winning BBQ and a cold one with Matt & Gene Tuesdays at Moe’s Original BBQ in Downtown Mobile and on Thursdays\, Clint & Cornbred bring the fun to Moe’s in Daphne!  Both nights start at 7PM.
URL:https://92zew.net/calendar/beer-bbq-bingo/2029-08-09/
LOCATION:Moe’s Original BBQ
CATEGORIES:92ZEW Live!
ATTACH;FMTTYPE=image/jpeg:https://92zew.net/wp-content/uploads/2026/04/BBB-feat-346-x-245-px.jpg
END:VEVENT
END:VCALENDAR