BEGIN:VCALENDAR
VERSION:2.0
PRODID:-//92ZEW - ECPv6.15.20//NONSGML v1.0//EN
CALSCALE:GREGORIAN
METHOD:PUBLISH
X-ORIGINAL-URL:https://92zew.net
X-WR-CALDESC:Events for 92ZEW
REFRESH-INTERVAL;VALUE=DURATION:PT1H
X-Robots-Tag:noindex
X-PUBLISHED-TTL:PT1H
BEGIN:VTIMEZONE
TZID:America/Chicago
BEGIN:DAYLIGHT
TZOFFSETFROM:-0600
TZOFFSETTO:-0500
TZNAME:CDT
DTSTART:20270314T080000
END:DAYLIGHT
BEGIN:STANDARD
TZOFFSETFROM:-0500
TZOFFSETTO:-0600
TZNAME:CST
DTSTART:20271107T070000
END:STANDARD
BEGIN:DAYLIGHT
TZOFFSETFROM:-0600
TZOFFSETTO:-0500
TZNAME:CDT
DTSTART:20280312T080000
END:DAYLIGHT
BEGIN:STANDARD
TZOFFSETFROM:-0500
TZOFFSETTO:-0600
TZNAME:CST
DTSTART:20281105T070000
END:STANDARD
BEGIN:DAYLIGHT
TZOFFSETFROM:-0600
TZOFFSETTO:-0500
TZNAME:CDT
DTSTART:20290311T080000
END:DAYLIGHT
BEGIN:STANDARD
TZOFFSETFROM:-0500
TZOFFSETTO:-0600
TZNAME:CST
DTSTART:20291104T070000
END:STANDARD
END:VTIMEZONE
BEGIN:VEVENT
DTSTART;TZID=America/Chicago:20280502T190000
DTEND;TZID=America/Chicago:20280502T190000
DTSTAMP:20260421T104747
CREATED:20260415T160102Z
LAST-MODIFIED:20260415T160135Z
UID:10000387-1840906800-1840906800@92zew.net
SUMMARY:Beer\, BBQ & Bingo
DESCRIPTION:Join 92ZEW live at Moe’s Original BBQ for free Bingo each week! Win great prizes\, enjoy award winning BBQ and a cold one with Matt & Gene Tuesdays at Moe’s Original BBQ in Downtown Mobile and on Thursdays\, Clint & Cornbred bring the fun to Moe’s in Daphne!  Both nights start at 7PM.
URL:https://92zew.net/calendar/beer-bbq-bingo-2/2028-05-02/
LOCATION:Moe’s Original BBQ
CATEGORIES:92ZEW Live!
ATTACH;FMTTYPE=image/jpeg:https://92zew.net/wp-content/uploads/2026/04/BBB-feat-346-x-245-px.jpg
END:VEVENT
BEGIN:VEVENT
DTSTART;TZID=America/Chicago:20280504T190000
DTEND;TZID=America/Chicago:20280504T190000
DTSTAMP:20260421T104747
CREATED:20260410T055007Z
LAST-MODIFIED:20260415T155903Z
UID:10000128-1841079600-1841079600@92zew.net
SUMMARY:Beer\, BBQ & Bingo
DESCRIPTION:Join 92ZEW live at Moe’s Original BBQ for free Bingo each week! Win great prizes\, enjoy award winning BBQ and a cold one with Matt & Gene Tuesdays at Moe’s Original BBQ in Downtown Mobile and on Thursdays\, Clint & Cornbred bring the fun to Moe’s in Daphne!  Both nights start at 7PM.
URL:https://92zew.net/calendar/beer-bbq-bingo/2028-05-04/
LOCATION:Moe’s Original BBQ
CATEGORIES:92ZEW Live!
ATTACH;FMTTYPE=image/jpeg:https://92zew.net/wp-content/uploads/2026/04/BBB-feat-346-x-245-px.jpg
END:VEVENT
BEGIN:VEVENT
DTSTART;TZID=America/Chicago:20280509T190000
DTEND;TZID=America/Chicago:20280509T190000
DTSTAMP:20260421T104747
CREATED:20260415T160102Z
LAST-MODIFIED:20260415T160135Z
UID:10000388-1841511600-1841511600@92zew.net
SUMMARY:Beer\, BBQ & Bingo
DESCRIPTION:Join 92ZEW live at Moe’s Original BBQ for free Bingo each week! Win great prizes\, enjoy award winning BBQ and a cold one with Matt & Gene Tuesdays at Moe’s Original BBQ in Downtown Mobile and on Thursdays\, Clint & Cornbred bring the fun to Moe’s in Daphne!  Both nights start at 7PM.
URL:https://92zew.net/calendar/beer-bbq-bingo-2/2028-05-09/
LOCATION:Moe’s Original BBQ
CATEGORIES:92ZEW Live!
ATTACH;FMTTYPE=image/jpeg:https://92zew.net/wp-content/uploads/2026/04/BBB-feat-346-x-245-px.jpg
END:VEVENT
BEGIN:VEVENT
DTSTART;TZID=America/Chicago:20280511T190000
DTEND;TZID=America/Chicago:20280511T190000
DTSTAMP:20260421T104747
CREATED:20260410T055007Z
LAST-MODIFIED:20260415T155903Z
UID:10000129-1841684400-1841684400@92zew.net
SUMMARY:Beer\, BBQ & Bingo
DESCRIPTION:Join 92ZEW live at Moe’s Original BBQ for free Bingo each week! Win great prizes\, enjoy award winning BBQ and a cold one with Matt & Gene Tuesdays at Moe’s Original BBQ in Downtown Mobile and on Thursdays\, Clint & Cornbred bring the fun to Moe’s in Daphne!  Both nights start at 7PM.
URL:https://92zew.net/calendar/beer-bbq-bingo/2028-05-11/
LOCATION:Moe’s Original BBQ
CATEGORIES:92ZEW Live!
ATTACH;FMTTYPE=image/jpeg:https://92zew.net/wp-content/uploads/2026/04/BBB-feat-346-x-245-px.jpg
END:VEVENT
BEGIN:VEVENT
DTSTART;TZID=America/Chicago:20280516T190000
DTEND;TZID=America/Chicago:20280516T190000
DTSTAMP:20260421T104747
CREATED:20260415T160102Z
LAST-MODIFIED:20260415T160135Z
UID:10000389-1842116400-1842116400@92zew.net
SUMMARY:Beer\, BBQ & Bingo
DESCRIPTION:Join 92ZEW live at Moe’s Original BBQ for free Bingo each week! Win great prizes\, enjoy award winning BBQ and a cold one with Matt & Gene Tuesdays at Moe’s Original BBQ in Downtown Mobile and on Thursdays\, Clint & Cornbred bring the fun to Moe’s in Daphne!  Both nights start at 7PM.
URL:https://92zew.net/calendar/beer-bbq-bingo-2/2028-05-16/
LOCATION:Moe’s Original BBQ
CATEGORIES:92ZEW Live!
ATTACH;FMTTYPE=image/jpeg:https://92zew.net/wp-content/uploads/2026/04/BBB-feat-346-x-245-px.jpg
END:VEVENT
BEGIN:VEVENT
DTSTART;TZID=America/Chicago:20280518T190000
DTEND;TZID=America/Chicago:20280518T190000
DTSTAMP:20260421T104747
CREATED:20260410T055007Z
LAST-MODIFIED:20260415T155903Z
UID:10000130-1842289200-1842289200@92zew.net
SUMMARY:Beer\, BBQ & Bingo
DESCRIPTION:Join 92ZEW live at Moe’s Original BBQ for free Bingo each week! Win great prizes\, enjoy award winning BBQ and a cold one with Matt & Gene Tuesdays at Moe’s Original BBQ in Downtown Mobile and on Thursdays\, Clint & Cornbred bring the fun to Moe’s in Daphne!  Both nights start at 7PM.
URL:https://92zew.net/calendar/beer-bbq-bingo/2028-05-18/
LOCATION:Moe’s Original BBQ
CATEGORIES:92ZEW Live!
ATTACH;FMTTYPE=image/jpeg:https://92zew.net/wp-content/uploads/2026/04/BBB-feat-346-x-245-px.jpg
END:VEVENT
BEGIN:VEVENT
DTSTART;TZID=America/Chicago:20280523T190000
DTEND;TZID=America/Chicago:20280523T190000
DTSTAMP:20260421T104747
CREATED:20260415T160102Z
LAST-MODIFIED:20260415T160135Z
UID:10000390-1842721200-1842721200@92zew.net
SUMMARY:Beer\, BBQ & Bingo
DESCRIPTION:Join 92ZEW live at Moe’s Original BBQ for free Bingo each week! Win great prizes\, enjoy award winning BBQ and a cold one with Matt & Gene Tuesdays at Moe’s Original BBQ in Downtown Mobile and on Thursdays\, Clint & Cornbred bring the fun to Moe’s in Daphne!  Both nights start at 7PM.
URL:https://92zew.net/calendar/beer-bbq-bingo-2/2028-05-23/
LOCATION:Moe’s Original BBQ
CATEGORIES:92ZEW Live!
ATTACH;FMTTYPE=image/jpeg:https://92zew.net/wp-content/uploads/2026/04/BBB-feat-346-x-245-px.jpg
END:VEVENT
BEGIN:VEVENT
DTSTART;TZID=America/Chicago:20280525T190000
DTEND;TZID=America/Chicago:20280525T190000
DTSTAMP:20260421T104747
CREATED:20260410T055007Z
LAST-MODIFIED:20260415T155903Z
UID:10000131-1842894000-1842894000@92zew.net
SUMMARY:Beer\, BBQ & Bingo
DESCRIPTION:Join 92ZEW live at Moe’s Original BBQ for free Bingo each week! Win great prizes\, enjoy award winning BBQ and a cold one with Matt & Gene Tuesdays at Moe’s Original BBQ in Downtown Mobile and on Thursdays\, Clint & Cornbred bring the fun to Moe’s in Daphne!  Both nights start at 7PM.
URL:https://92zew.net/calendar/beer-bbq-bingo/2028-05-25/
LOCATION:Moe’s Original BBQ
CATEGORIES:92ZEW Live!
ATTACH;FMTTYPE=image/jpeg:https://92zew.net/wp-content/uploads/2026/04/BBB-feat-346-x-245-px.jpg
END:VEVENT
BEGIN:VEVENT
DTSTART;TZID=America/Chicago:20280530T190000
DTEND;TZID=America/Chicago:20280530T190000
DTSTAMP:20260421T104747
CREATED:20260415T160102Z
LAST-MODIFIED:20260415T160135Z
UID:10000391-1843326000-1843326000@92zew.net
SUMMARY:Beer\, BBQ & Bingo
DESCRIPTION:Join 92ZEW live at Moe’s Original BBQ for free Bingo each week! Win great prizes\, enjoy award winning BBQ and a cold one with Matt & Gene Tuesdays at Moe’s Original BBQ in Downtown Mobile and on Thursdays\, Clint & Cornbred bring the fun to Moe’s in Daphne!  Both nights start at 7PM.
URL:https://92zew.net/calendar/beer-bbq-bingo-2/2028-05-30/
LOCATION:Moe’s Original BBQ
CATEGORIES:92ZEW Live!
ATTACH;FMTTYPE=image/jpeg:https://92zew.net/wp-content/uploads/2026/04/BBB-feat-346-x-245-px.jpg
END:VEVENT
END:VCALENDAR