BEGIN:VCALENDAR
VERSION:2.0
PRODID:-//92ZEW - ECPv6.15.20//NONSGML v1.0//EN
CALSCALE:GREGORIAN
METHOD:PUBLISH
X-ORIGINAL-URL:https://92zew.net
X-WR-CALDESC:Events for 92ZEW
REFRESH-INTERVAL;VALUE=DURATION:PT1H
X-Robots-Tag:noindex
X-PUBLISHED-TTL:PT1H
BEGIN:VTIMEZONE
TZID:America/Chicago
BEGIN:DAYLIGHT
TZOFFSETFROM:-0600
TZOFFSETTO:-0500
TZNAME:CDT
DTSTART:20250309T080000
END:DAYLIGHT
BEGIN:STANDARD
TZOFFSETFROM:-0500
TZOFFSETTO:-0600
TZNAME:CST
DTSTART:20251102T070000
END:STANDARD
BEGIN:DAYLIGHT
TZOFFSETFROM:-0600
TZOFFSETTO:-0500
TZNAME:CDT
DTSTART:20260308T080000
END:DAYLIGHT
BEGIN:STANDARD
TZOFFSETFROM:-0500
TZOFFSETTO:-0600
TZNAME:CST
DTSTART:20261101T070000
END:STANDARD
BEGIN:DAYLIGHT
TZOFFSETFROM:-0600
TZOFFSETTO:-0500
TZNAME:CDT
DTSTART:20270314T080000
END:DAYLIGHT
BEGIN:STANDARD
TZOFFSETFROM:-0500
TZOFFSETTO:-0600
TZNAME:CST
DTSTART:20271107T070000
END:STANDARD
END:VTIMEZONE
BEGIN:VEVENT
DTSTART;TZID=America/Chicago:20260427T200000
DTEND;TZID=America/Chicago:20260427T200000
DTSTAMP:20260419T190534
CREATED:20260410T005848Z
LAST-MODIFIED:20260410T005940Z
UID:10000003-1777320000-1777320000@92zew.net
SUMMARY:Cake
DESCRIPTION:Mobile Saenger Theatre \nDoors: 7PM \nShow: 8PM \nGet tickets at: https://www.ticketmaster.com/event/1B006344FC048E62 or the Saenger Box Office Wed-Fri\, 10AM util 2PM to save fees. \nClick to rate this post!\n                                   \n                               [Total: 0  Average: 0]
URL:https://92zew.net/calendar/cake/
LOCATION:Mobile Saenger Theatre
ATTACH;FMTTYPE=image/jpeg:https://92zew.net/wp-content/uploads/2026/04/cake-feat-346-x-245-px.jpg
END:VEVENT
BEGIN:VEVENT
DTSTART;TZID=America/Chicago:20260428T200000
DTEND;TZID=America/Chicago:20260428T200000
DTSTAMP:20260419T190534
CREATED:20260410T010401Z
LAST-MODIFIED:20260410T010422Z
UID:10000004-1777406400-1777406400@92zew.net
SUMMARY:An Evening with Wilco
DESCRIPTION:Mobile Saenger Theatre \nDoors: 7PM \nShow: 8PM \nGet tickets at: https://www.ticketmaster.com/event/1B006434A0DCA38E or the Saenger Box Office Wed – Fri\, 10AM – 2PM to save on fees. \nClick to rate this post!\n                                   \n                               [Total: 0  Average: 0]
URL:https://92zew.net/calendar/an-evening-with-wilco/
LOCATION:Mobile Saenger Theatre
CATEGORIES:Concert
ATTACH;FMTTYPE=image/jpeg:https://92zew.net/wp-content/uploads/2026/04/wilco-feat-346-x-245-px.jpg
END:VEVENT
BEGIN:VEVENT
DTSTART;TZID=America/Chicago:20260507T193000
DTEND;TZID=America/Chicago:20260507T193000
DTSTAMP:20260419T190535
CREATED:20260410T011152Z
LAST-MODIFIED:20260410T011256Z
UID:10000005-1778182200-1778182200@92zew.net
SUMMARY:Blues Traveler
DESCRIPTION:with special guests The Pernikoff Brothers \nMobile Saenger Theatre \nDoors: 6:30PM \nShow: 7:30PM \nGet tickets at: https://www.ticketmaster.com/blues-traveler-mobile-alabama-05-07-2026/event/1B006452AC2CC424 or the Saenger Box Office Wed – Fri\, 10AM – 2PM to save on fees. \nClick to rate this post!\n                                   \n                               [Total: 0  Average: 0]
URL:https://92zew.net/calendar/blues-traveler/
LOCATION:Mobile Saenger Theatre
CATEGORIES:Concert
ATTACH;FMTTYPE=image/jpeg:https://92zew.net/wp-content/uploads/2026/02/blue-traveler-feat-final-346-x-245-px.jpg
END:VEVENT
END:VCALENDAR