BEGIN:VCALENDAR
VERSION:2.0
PRODID:-//92ZEW - ECPv6.15.20//NONSGML v1.0//EN
CALSCALE:GREGORIAN
METHOD:PUBLISH
X-WR-CALNAME:92ZEW
X-ORIGINAL-URL:https://92zew.net
X-WR-CALDESC:Events for 92ZEW
REFRESH-INTERVAL;VALUE=DURATION:PT1H
X-Robots-Tag:noindex
X-PUBLISHED-TTL:PT1H
BEGIN:VTIMEZONE
TZID:America/Chicago
BEGIN:DAYLIGHT
TZOFFSETFROM:-0600
TZOFFSETTO:-0500
TZNAME:CDT
DTSTART:20250309T080000
END:DAYLIGHT
BEGIN:STANDARD
TZOFFSETFROM:-0500
TZOFFSETTO:-0600
TZNAME:CST
DTSTART:20251102T070000
END:STANDARD
BEGIN:DAYLIGHT
TZOFFSETFROM:-0600
TZOFFSETTO:-0500
TZNAME:CDT
DTSTART:20260308T080000
END:DAYLIGHT
BEGIN:STANDARD
TZOFFSETFROM:-0500
TZOFFSETTO:-0600
TZNAME:CST
DTSTART:20261101T070000
END:STANDARD
BEGIN:DAYLIGHT
TZOFFSETFROM:-0600
TZOFFSETTO:-0500
TZNAME:CDT
DTSTART:20270314T080000
END:DAYLIGHT
BEGIN:STANDARD
TZOFFSETFROM:-0500
TZOFFSETTO:-0600
TZNAME:CST
DTSTART:20271107T070000
END:STANDARD
END:VTIMEZONE
BEGIN:VEVENT
DTSTART;TZID=America/Chicago:20260425T200000
DTEND;TZID=America/Chicago:20260425T200000
DTSTAMP:20260420T175005
CREATED:20260420T143123Z
LAST-MODIFIED:20260420T143143Z
UID:10000672-1777147200-1777147200@92zew.net
SUMMARY:Ani DiFranco
DESCRIPTION:@ Vinyl Music Hall \nDoors: 7PM \nShow: 8PM \nGet tickets at: https://wl.eventim.us/event/ani-difranco-w-special-guest-sweet-petunia/681252?afflky=VinylMusicHall \nClick to rate this post!\n                                   \n                               [Total: 0  Average: 0]
URL:https://92zew.net/calendar/ani-difranco/
LOCATION:Vinyl Music Hall – Pensacola
CATEGORIES:Concert
ATTACH;FMTTYPE=image/webp:https://92zew.net/wp-content/uploads/2026/04/ani-difranco-vinyl.webp
END:VEVENT
END:VCALENDAR